BEGIN:VCALENDAR
VERSION:2.0
PRODID:-//ChamberMaster//Event Calendar 2.0//EN
METHOD:PUBLISH
X-PUBLISHED-TTL:P3D
REFRESH-INTERVAL:P3D
CALSCALE:GREGORIAN
BEGIN:VEVENT
DTSTART:20240427T000000Z
DTEND:20240429T010000Z
X-MICROSOFT-CDO-ALLDAYEVENT:FALSE
SUMMARY:Genies in a Bottle
DESCRIPTION:A dangerous man controls two Jinn spirits trapped within human bodies to summon and control the evilest Jinn of all. A play about domestic abuse: how the use of emotional and physical control destroys femme-presenting characters. April 26th & 27th at 8:00pm April 28th at 7:00 pm Playhouse on Park\, 244 Park Road\, West Hartford\, CT Tickets: $10.00 Individual $50.00 Underwriter* *$40 is considered a tax-deductible donation in support of this work
X-ALT-DESC;FMTTYPE=text/html:A dangerous man controls two Jinn spirits trapped within human bodies to summon and control the evilest Jinn of all. A play about domestic abuse: how the use of emotional and physical control destroys femme-presenting characters. April 26th &amp\; 27th at 8:00pm April 28th at 7:00 pm Playhouse on Park\, 244 Park Road\, West Hartford\, CT Tickets: $10.00 Individual $50.00 Underwriter* *$40 is considered a tax-deductible donation in support of this work
LOCATION:224 Playhouse on Park
UID:e.3150.12970
SEQUENCE:3
DTSTAMP:20260424T222629Z
URL:https://business.whchamber.com/events/details/genies-in-a-bottle-12970
END:VEVENT

END:VCALENDAR
