BEGIN:VCALENDAR
VERSION:2.0
PRODID:-//ChamberMaster//Event Calendar 2.0//EN
METHOD:PUBLISH
X-PUBLISHED-TTL:P3D
REFRESH-INTERVAL:P3D
CALSCALE:GREGORIAN
BEGIN:VEVENT
DTSTART:20220918T160000Z
DTEND:20220918T200000Z
X-MICROSOFT-CDO-ALLDAYEVENT:FALSE
SUMMARY:GastroPark Festival\, Food Drive\, and Cleanup
DESCRIPTION:Natural Dividends invites you to join our community cleanup and gathering at the GastroPark on Saturday\, September 18th at noon.\n\nBring your family and friends for good eats\, cold beer\, fun activities\, while learning from your community at this sustainability event. Come help us take care of our local natural spaces on a local trash clean-up "Negative Net Hiking" while learning about ways to positively impact the environment. Support your local ecosystem and learn about how you can protect natural resources from local experts.\n\nAll are welcome\, and participation is free!\n\nThis event is perfect for people who love nature and are excited to learn more and take action to protect and conserve it while also getting involved with our local community.\n\nThis event will include two primary activities. We will start with our Negative Net Hiking cleanup\, while throughout the event\, you can learn from local organizations and enjoy some good eats at the Gastropark.\n\n\n	Join us for a Negative Net Hiking walk within the Elmwood/New Park area\, within walking distance from the Gastropark event location. Help our neighborhood become an even more enjoyable space for all those that use and see your actions in real-time. Engage with us virtually and track your positive impact using the Litterati app to help make our impact measurable.\n	Learn from organizations and individuals already taking action in our community about how you can start living a more sustainable life\, waste less\, and start giving back to nature today.\n\n\nAlso\, we will also be giving away some prizes from local businesses!\n\nIncludes a Food Drive!\n\nTogether\, we can make small everyday changes that Increase Nature's Share and leave a lasting impact on our local neighborhood\, so let's do it!\n\nFood & Drink:\n\n\n	Food for purchase from local food trucks!\n	Beer for purchase at the Gastropark\n\n\nFAQ:\n\n\n	Coming on our cleanup? Make sure you have comfortable shoes\, gloves\, and some bags for trash.
X-ALT-DESC;FMTTYPE=text/html:<p><a href="https://www.naturaldividends.org/" rel="nofollow noopener noreferrer" style="text-decoration-line: none\; color: var(--eds-control\,#3659e3)\; cursor: pointer\; background-color: transparent\; padding-top: 0px\;" target="_blank">Natural Dividends</a>&nbsp\;invites you to join our community cleanup and gathering at the GastroPark on Saturday\, September 18th at noon.</p>\n\n<p>Bring your family and friends for good eats\, cold beer\, fun activities\, while learning from your community at this sustainability event. Come help us take care of our local natural spaces on a local trash clean-up &ldquo\;<a href="https://www.youtube.com/watch?v=o4deLD_0UX4&amp\;t=5s" rel="nofollow noopener noreferrer" style="text-decoration-line: none\; color: var(--eds-control\,#3659e3)\; cursor: pointer\; background-color: transparent\; padding-top: 0px\;" target="_blank">Negative Net Hiking</a>&rdquo\; while learning about ways to positively impact the environment. Support your local ecosystem and learn about how you can protect natural resources from local experts.</p>\n\n<p>All are welcome\, and participation is free!</p>\n\n<p>This event is perfect for people who love nature and are excited to learn more and take action to protect and conserve it while also getting involved with our local community.</p>\n\n<p>This event will include two primary activities. We will start with our&nbsp\;<a href="https://www.youtube.com/watch?v=o4deLD_0UX4&amp\;t=5s" rel="nofollow noopener noreferrer" style="text-decoration-line: none\; color: var(--eds-control\,#3659e3)\; cursor: pointer\; background-color: transparent\; padding-top: 0px\;" target="_blank">Negative Net Hiking</a>&nbsp\;cleanup\, while throughout the event\, you can learn from local organizations and enjoy some good eats at the Gastropark.</p>\n\n<ol>\n	<li>Join us for a&nbsp\;<a href="https://www.youtube.com/watch?v=o4deLD_0UX4&amp\;t=5s" rel="nofollow noopener noreferrer" style="text-decoration-line: none\; color: var(--eds-control\,#3659e3)\; cursor: pointer\; background-color: transparent\; padding-top: 0px\;" target="_blank">Negative Net Hiking</a>&nbsp\;walk within the Elmwood/New Park area\, within walking distance from the Gastropark event location. Help our neighborhood become an even more enjoyable space for all those that use and see your actions in real-time. Engage with us virtually and track your positive impact using the&nbsp\;<a href="https://litterati.org/" rel="nofollow noopener noreferrer" style="text-decoration-line: none\; color: var(--eds-control\,#3659e3)\; cursor: pointer\; background-color: transparent\;" target="_blank">Litterati</a>&nbsp\;app to help make our impact measurable.</li>\n	<li>Learn from organizations and individuals already taking action in our community about how you can start living a more sustainable life\, waste less\, and start giving back to nature today.</li>\n</ol>\n\n<p>Also\, we will also be giving away some prizes from local businesses!</p>\n\n<p><strong>Includes a Food Drive!</strong></p>\n\n<p>Together\, we can make small everyday changes that Increase Nature&#39\;s Share and leave a lasting impact on our local neighborhood\, so let&rsquo\;s do it!</p>\n\n<p><strong>Food &amp\; Drink:</strong></p>\n\n<ul>\n	<li>Food for purchase from local food trucks!</li>\n	<li>Beer for purchase at the Gastropark</li>\n</ul>\n\n<p><strong>FAQ:</strong></p>\n\n<ul>\n	<li>Coming on our cleanup? Make sure you have comfortable shoes\, gloves\, and some bags for trash.</li>\n</ul>\n
LOCATION:Gastropark 637 New Park Avenue West Hartford\, CT 06110
UID:e.3150.11234
SEQUENCE:3
DTSTAMP:20260426T014555Z
URL:https://business.whchamber.com/events/details/gastropark-festival-food-drive-and-cleanup-11234
END:VEVENT

END:VCALENDAR
