BEGIN:VCALENDAR
VERSION:2.0
PRODID:-//ChamberMaster//Event Calendar 2.0//EN
METHOD:PUBLISH
X-PUBLISHED-TTL:P3D
REFRESH-INTERVAL:P3D
CALSCALE:GREGORIAN
BEGIN:VEVENT
DTSTART:20250213T223000Z
DTEND:20250214T000000Z
X-MICROSOFT-CDO-ALLDAYEVENT:FALSE
SUMMARY:Galentine's Movie Night: The [M] Factor\, Shredding the Silence on Menopause
DESCRIPTION:Join us for a night of empowerment\, connection\, and fun! FemCare Medspa invites you and your friends to our special Galentine's event\, featuring a screening of the PBS documentary The [M] Factor: Shredding the Silence on Menopause.\n\nThis is more than a movie night it's your chance to learn how menopause impacts health\, vitality\, and intimacy. After the screening\, Julian\, our seasoned nurse with nearly two decades of experience\, will host an engaging presentation and Q&A session to share insights on managing menopause and optimizing wellness.\n\nDiscover treatments like:\n\n? Empower RF: Offering relief from pelvic floor weakness\, urinary incontinence\, and pain.\n\nEvent Details:\n\n?? Date: February 13th\n\n? Time: 5:30 PM - 7:00 PM\n\n?? Location: FemCare Medspa\n\n??? Tickets: Limited spots available bring a friend and reserve your seat today!\n\nEnjoy light refreshments\, exclusive event-only pricing\, and exciting giveaways. Let's celebrate women's wellness together.\n\n\n\nFor more information and to reserve your spot\, visit https://www.eventbrite.com/e/galentines-movie-night-the-m-factor-shredding-the-silence-on-menopause-tickets-1199275829289?aff=oddtdtcreator
X-ALT-DESC;FMTTYPE=text/html:<p>Join us for a night of empowerment\, connection\, and fun! FemCare Medspa invites you and your friends to our special <strong>Galentine&rsquo\;s event</strong>\, featuring a screening of the PBS documentary The [M] Factor: Shredding the Silence on Menopause.</p>\n\n<p>This is more than a movie night&mdash\;it&rsquo\;s your chance to learn how menopause impacts health\, vitality\, and intimacy. After the screening\, Julian\, our seasoned nurse with nearly two decades of experience\, will host an engaging presentation and Q&amp\;A session to share insights on managing menopause and optimizing wellness.</p>\n\n<p>Discover treatments like:</p>\n\n<p>? <strong>Empower RF</strong>: Offering relief from pelvic floor weakness\, urinary incontinence\, and pain.</p>\n\n<p><strong>Event Details:</strong></p>\n\n<p>?? Date: February 13th</p>\n\n<p>? Time: 5:30 PM - 7:00 PM</p>\n\n<p>?? Location: FemCare Medspa</p>\n\n<p>??? Tickets: Limited spots available&mdash\;bring a friend and reserve your seat today!</p>\n\n<p>Enjoy light refreshments\, exclusive event-only pricing\, and exciting giveaways. Let&rsquo\;s celebrate women&rsquo\;s wellness together.<br />\n<br />\n<span style="background-color:transparent\; color:rgb(0\, 0\, 0)\; font-family:arial\,sans-serif\; font-size:11pt">For more information and to reserve your spot\, visit </span><a href="https://www.eventbrite.com/e/galentines-movie-night-the-m-factor-shredding-the-silence-on-menopause-tickets-1199275829289?aff=oddtdtcreator" style="text-decoration-line: none\;"><span style="background-color:transparent\; color:rgb(17\, 85\, 204)\; font-family:arial\,sans-serif\; font-size:11pt">https://www.eventbrite.com/e/galentines-movie-night-the-m-factor-shredding-the-silence-on-menopause-tickets-1199275829289?aff=oddtdtcreator</span></a></p>\n
LOCATION:FemCare MedSpa 61 Raymond Rd\, West Hartford\, CT 06107
UID:e.3150.15837
SEQUENCE:3
DTSTAMP:20260424T025450Z
URL:https://business.whchamber.com/events/details/galentine-s-movie-night-the-m-factor-shredding-the-silence-on-menopause-15837
END:VEVENT

END:VCALENDAR
