BEGIN:VCALENDAR
VERSION:2.0
PRODID:-//ChamberMaster//Event Calendar 2.0//EN
METHOD:PUBLISH
X-PUBLISHED-TTL:P3D
REFRESH-INTERVAL:P3D
CALSCALE:GREGORIAN
BEGIN:VEVENT
DTSTART:20240320T180000Z
DTEND:20240320T190000Z
X-MICROSOFT-CDO-ALLDAYEVENT:FALSE
SUMMARY:Fundamentals of Interior Design with Angela Belt
DESCRIPTION:In this program with Angela Belt\, you will learn about a step-by-step guide to making your interior design dreams come true. Angela will share how she designed her custom dining room\, featured in Better Homes & Gardens Magazine\, from start to finish.  She will focus on the importance of research\, and creating a mood board\, plus\, the importance of creating a 3D model so you can visualize your ideas before you execute them. Finally\, she'll show how all the details can come together to make your interior design dreams come to life.
X-ALT-DESC;FMTTYPE=text/html:<div>In this program with Angela Belt\, you will learn about a step-by-step guide to making your interior design dreams come true. Angela will share how she designed her custom dining room\, featured in&nbsp\;<em>Better Homes &amp\; Gardens</em>&nbsp\;<em>Magazine</em>\, from start to finish.&nbsp\; She will focus on the importance of research\, and creating a mood board\, plus\, the importance of creating a 3D model so you can visualize your ideas before you execute them. Finally\, she&#39\;ll show how all the details can come together to make your interior design dreams come to life.&nbsp\;&nbsp\;</div>\n\n<div>&nbsp\;</div>\n
LOCATION:A free virtual program\, please register here https://bplct.evanced.info/signup/EventDetails?EventId=12038&backTo=Calendar&startDate=2024/03/01.
UID:e.3150.12960
SEQUENCE:3
DTSTAMP:20260424T222820Z
URL:https://business.whchamber.com/events/details/fundamentals-of-interior-design-with-angela-belt-12960
END:VEVENT

END:VCALENDAR
