BEGIN:VCALENDAR
VERSION:2.0
PRODID:-//ChamberMaster//Event Calendar 2.0//EN
METHOD:PUBLISH
X-PUBLISHED-TTL:P3D
REFRESH-INTERVAL:P3D
CALSCALE:GREGORIAN
BEGIN:VEVENT
DTSTART:20250315T140000Z
DTEND:20250315T160000Z
X-MICROSOFT-CDO-ALLDAYEVENT:FALSE
SUMMARY:Fully Connect Body Workshop
DESCRIPTION:Transform Your Mind\, Body\, and Spirit at Our Holistic Wellness Workshop!\n\nAre you ready to reconnect with your inner self\, find balance\, and nourish your body?\n\nJoin us for a transformative workshop that combines Reiki/Quantum energy healing\, Yoga\, Medication\, and Nutrition in one powerful experience. \n\n\n\nRejuvenate and restore your energy.  Find deep relaxation and inner peace. Gain tools to improve your mental\, physical\, and emotional well-being. Connect with like-minded community in a nurturing\, supportive space.\n\n\n\nLimited spots available.  Register today.
X-ALT-DESC;FMTTYPE=text/html:Transform Your Mind\, Body\, and Spirit at Our Holistic Wellness Workshop!<br />\nAre you ready to reconnect with your inner self\, find balance\, and nourish your body?<br />\nJoin us for a transformative workshop that combines Reiki/Quantum energy healing\, Yoga\, Medication\, and Nutrition in one powerful experience.&nbsp\;<br />\n<br />\nRejuvenate and restore your energy.&nbsp\; Find deep relaxation and inner peace. Gain tools to improve your mental\, physical\, and emotional well-being. Connect with like-minded community in a nurturing\, supportive space.<br />\n<br />\nLimited spots available.&nbsp\; Register today.
LOCATION:45 South Main Street Conference room West Hartford\, Ct 06107
UID:e.3150.15892
SEQUENCE:3
DTSTAMP:20260424T024929Z
URL:https://business.whchamber.com/events/details/fully-connect-body-workshop-15892
END:VEVENT

END:VCALENDAR
