BEGIN:VCALENDAR
VERSION:2.0
PRODID:-//ChamberMaster//Event Calendar 2.0//EN
METHOD:PUBLISH
X-PUBLISHED-TTL:P3D
REFRESH-INTERVAL:P3D
CALSCALE:GREGORIAN
BEGIN:VEVENT
DTSTART:20230204T000000Z
DTEND:20230204T030000Z
X-MICROSOFT-CDO-ALLDAYEVENT:FALSE
SUMMARY:Friends of Feeney Night at Hartford Wolf Pack Hockey
DESCRIPTION:The Hartford Wolf Pack are excited to welcome Friends of Feeney to the XL Center! A portion of each ticket will go back to support Friends of Feeney!\n\nCome out and cheer on the Wolf Pack as they battle the Utica Comets on February 3\, 2023.\n\nFebruary 3rd is Military Appreciation at the XL Center!\n\nIf you have any questions please reach out to Gavin Ewing at gavin.ewing@oakviewgroup.com 860-990-6078.
X-ALT-DESC;FMTTYPE=text/html:<div>The Hartford Wolf Pack are excited to welcome Friends of Feeney to the XL Center! A portion of each ticket will go back to support Friends of Feeney!</div>\n\n<div>Come out and cheer on the Wolf Pack as they battle the Utica Comets on February 3\, 2023.</div>\n\n<div>February 3rd is Military Appreciation at the XL Center!</div>\n\n<div>If you have any questions please reach out to Gavin Ewing at gavin.ewing@oakviewgroup.com 860-990-6078.</div>\n
LOCATION:XL CENTER 1 Civic Center Plaza Hartford\, Connecticut 06103
UID:e.3150.12414
SEQUENCE:3
DTSTAMP:20260425T181555Z
URL:https://business.whchamber.com/events/details/friends-of-feeney-night-at-hartford-wolf-pack-hockey-12414
END:VEVENT

END:VCALENDAR
