BEGIN:VCALENDAR
VERSION:2.0
PRODID:-//ChamberMaster//Event Calendar 2.0//EN
METHOD:PUBLISH
X-PUBLISHED-TTL:P3D
REFRESH-INTERVAL:P3D
CALSCALE:GREGORIAN
BEGIN:VEVENT
DTSTART:20221116T170000Z
DTEND:20221116T183000Z
X-MICROSOFT-CDO-ALLDAYEVENT:FALSE
SUMMARY:Free Workshop - Contract-Winning Proposals
DESCRIPTION:https://www.eventbrite.com/e/writing-contract-winning-proposals-tickets-446489200217
X-ALT-DESC;FMTTYPE=text/html:https://www.eventbrite.com/e/writing-contract-winning-proposals-tickets-446489200217
LOCATION:
UID:e.3150.12401
SEQUENCE:3
DTSTAMP:20260425T224229Z
URL:https://business.whchamber.com/events/details/free-workshop-contract-winning-proposals-12401
END:VEVENT

END:VCALENDAR
