BEGIN:VCALENDAR
VERSION:2.0
PRODID:-//ChamberMaster//Event Calendar 2.0//EN
METHOD:PUBLISH
X-PUBLISHED-TTL:P3D
REFRESH-INTERVAL:P3D
CALSCALE:GREGORIAN
BEGIN:VEVENT
DTSTART:20230215T170000Z
DTEND:20230215T190000Z
X-MICROSOFT-CDO-ALLDAYEVENT:FALSE
SUMMARY:FREE Webinar - Capability Statements & Business Certifications
DESCRIPTION:Does your Black or minority-owned business struggle with understanding all the different business certifications or why you need a capability statement?\n\n\n\nThis interactive virtual workshop will provide you with the tools and resources to prepare capability statements and acquire business certifications.\n\nAre you prepared to do business with large corporations\, the federal government\, and local municipalities?\n\nEvery year\, the federal government and corporations spend billions of dollars funding contracts. An expertly designed capability statement and business certifications can significantly improve your potential for success.\n\nA capability statement\, certifications\, and socioeconomic designations are your vehicle to winning contracts.
X-ALT-DESC;FMTTYPE=text/html:<p>Does your Black or minority-owned business struggle with understanding all the different business certifications or why you need a capability statement?<br />\n<br />\nThis interactive virtual workshop will provide you with the tools and resources to prepare capability statements and acquire business certifications.</p>\n\n<p>Are you prepared to do business with large corporations\, the federal government\, and local municipalities?</p>\n\n<p>Every year\, the federal government and corporations spend billions of dollars funding contracts. An expertly designed capability statement and business certifications can significantly improve your potential for success.</p>\n\n<p>A capability statement\, certifications\, and socioeconomic designations are your vehicle to winning contracts.</p>\n
LOCATION:https://capcert.eventbrite.com/
UID:e.3150.12455
SEQUENCE:3
DTSTAMP:20260425T181143Z
URL:https://business.whchamber.com/events/details/free-webinar-capability-statements-business-certifications-12455
END:VEVENT

END:VCALENDAR
