BEGIN:VCALENDAR
VERSION:2.0
PRODID:-//ChamberMaster//Event Calendar 2.0//EN
METHOD:PUBLISH
X-PUBLISHED-TTL:P3D
REFRESH-INTERVAL:P3D
CALSCALE:GREGORIAN
BEGIN:VEVENT
DTSTART:20221019T160000Z
DTEND:20221019T173000Z
X-MICROSOFT-CDO-ALLDAYEVENT:FALSE
SUMMARY:Free Virtual Quarterly Minority Small Business Coaching
DESCRIPTION:Specific\, Measurable\, Actionable\, Realistic\, and Time specific (S.M.A.R.T. ) goals help you stay focused and organized when you're reaching your personal or professional goals.\n\nIn the first session of our Business Group Coaching series\, participants will learn five tips for Setting S.M.A.R.T. goals and develop three S.M.A.R.T. goals for their business.\n\nIn each of the following sessions\, participants will review their progress on their goals and receive feedback on ways to stay on track to ensure they achieve the goals they've established for their personal or professional growth.\n\nSetting small goals helps prevent you from becoming overwhelmed and eventually giving up completely.Once you outline your S.M.A.R.T. goals\, you'll know what success looks like and how to measure it. This is important because when you establish S.M.A.R.T. goals\, your team is better positioned for success.\n\nB?ring your questions to our first session!
X-ALT-DESC;FMTTYPE=text/html:<p>Specific\, Measurable\, Actionable\, Realistic\, and Time specific (S.M.A.R.T. ) goals help you stay focused and organized when you&#39\;re reaching your personal or professional goals.</p>\n\n<p>In the first session of our Business Group Coaching series\, participants will learn five tips for Setting S.M.A.R.T. goals and develop three S.M.A.R.T. goals for their business.</p>\n\n<p>In each of the following sessions\, participants will review their progress on their goals and receive feedback on ways to stay on track to ensure they achieve the goals they&#39\;ve established for their personal or professional growth.</p>\n\n<p>Setting small goals helps prevent you from becoming overwhelmed and eventually giving up completely.Once you outline your S.M.A.R.T. goals\, you&#39\;ll know what success looks like and how to measure it. This is important because when you establish S.M.A.R.T. goals\, your team is better positioned for success.</p>\n\n<p>B?ring your questions to our first session!</p>\n
LOCATION:Virtually on Zoom https://www.eventbrite.com/e/cmwp-crcog-business-coaching-setting-business-goals-tickets-418909538707
UID:e.3150.11790
SEQUENCE:3
DTSTAMP:20260426T002047Z
URL:https://business.whchamber.com/events/details/free-virtual-quarterly-minority-small-business-coaching-11790
END:VEVENT

END:VCALENDAR
