BEGIN:VCALENDAR
VERSION:2.0
PRODID:-//ChamberMaster//Event Calendar 2.0//EN
METHOD:PUBLISH
X-PUBLISHED-TTL:P3D
REFRESH-INTERVAL:P3D
CALSCALE:GREGORIAN
BEGIN:VEVENT
DTSTART:20240713T150000Z
DTEND:20240713T180000Z
X-MICROSOFT-CDO-ALLDAYEVENT:FALSE
SUMMARY:Free Real Estate Expo
DESCRIPTION:Join us at our upcoming free Real Estate Expo! \n\nWhether you're looking to buy your first home\, sell your property\, or learn how to enhance your home\, this event is for you!\n\nDate: July 13th\n\nLocation: Parkville Market 1400 Park St\, Hartford\, CT\n\nTime: 11:00 am - 2:00 pm\n\nWhat to Expect:\n\nExpert advice from top real estate professionals\n\nConnect with lenders\, inspectors\, contractors\, attorneys\, and more!\n\nLatest trends and insights in the housing market\n\nExclusive home buying and selling strategies\n\nTips on how to enhance your home and add value\n\nNetworking opportunities with industry leaders\n\nExciting giveaways and special offers!\n\nFirst 30 people will receive a $10 gift card to any market eatery\n\nDon't miss this fantastic opportunity to make informed decisions about your home\, whether you're increasing its value or taking the next step toward your dream home!??\n\nRSVP today and invite your friends and family! We look forward to seeing you there! For more details and to register\, visit https://facebook.com/events/s/real-estate-expo/2217988815205404/
X-ALT-DESC;FMTTYPE=text/html:Join us at our upcoming free Real Estate Expo!&nbsp\;<br />\nWhether you&rsquo\;re looking to buy your first home\, sell your property\, or learn how to enhance your home\, this event is for you!<br />\nDate: July 13th<br />\nLocation: Parkville Market 1400 Park St\, Hartford\, CT<br />\nTime: 11:00 am - 2:00 pm<br />\nWhat to Expect:<br />\nExpert advice from top real estate professionals<br />\nConnect with lenders\, inspectors\, contractors\, attorneys\, and more!<br />\nLatest trends and insights in the housing market<br />\nExclusive home buying and selling strategies<br />\nTips on how to enhance your home and add value<br />\nNetworking opportunities with industry leaders<br />\nExciting giveaways and special offers!<br />\nFirst 30 people will receive a $10 gift card to any market eatery<br />\nDon&#39\;t miss this fantastic opportunity to make informed decisions about your home\, whether you&#39\;re increasing its value or taking the next step toward your dream home!??<br />\nRSVP today and invite your friends and family! We look forward to seeing you there! For more details and to register\, visit https://facebook.com/events/s/real-estate-expo/2217988815205404/&nbsp\;
LOCATION:Parkville Market 1400 Park St\, Hartford\, CT 06106
UID:e.3150.15035
SEQUENCE:3
DTSTAMP:20260424T164119Z
URL:https://business.whchamber.com/events/details/free-real-estate-expo-15035
END:VEVENT

END:VCALENDAR
