BEGIN:VCALENDAR
VERSION:2.0
PRODID:-//ChamberMaster//Event Calendar 2.0//EN
METHOD:PUBLISH
X-PUBLISHED-TTL:P3D
REFRESH-INTERVAL:P3D
CALSCALE:GREGORIAN
BEGIN:VEVENT
DTSTART:20230118T170000Z
DTEND:20230118T183000Z
X-MICROSOFT-CDO-ALLDAYEVENT:FALSE
SUMMARY:FREE Quarterly Virtual Business Coaching
DESCRIPTION:Calling Black and minority business owners!!\n\n\n\nParticipants will learn tips for Setting S.M.A.R.T. goals and develop three S.M.A.R.T. goals for their business.\n\nSpecific\, Measurable\, Actionable\, Realistic\, and Time specific (S.M.A.R.T.) goals help you stay focused and organized when you're reaching your personal or professional goals.\n\nIn each of the following sessions\, participants will review their progress on their goals and receive feedback on ways to stay on track to ensure they achieve the goals they've established for their personal or professional growth.\n\nSetting small goals helps prevent you from becoming overwhelmed and eventually giving up completely.Once you outline your S.M.A.R.T. goals\, you'll know what success looks like and how to measure it. This is important because when you establish S.M.A.R.T. goals\, your team is better positioned for success.\n\nBring your questions to our first session!
X-ALT-DESC;FMTTYPE=text/html:<p>Calling Black and minority business owners!!<br />\n<br />\nParticipants will learn tips for Setting S.M.A.R.T. goals and develop three S.M.A.R.T. goals for their business.</p>\n\n<p>Specific\, Measurable\, Actionable\, Realistic\, and Time specific (S.M.A.R.T.) goals help you stay focused and organized when you&rsquo\;re reaching your personal or professional goals.</p>\n\n<p>In each of the following sessions\, participants will review their progress on their goals and receive feedback on ways to stay on track to ensure they achieve the goals they&rsquo\;ve established for their personal or professional growth.</p>\n\n<p>Setting small goals helps prevent you from becoming overwhelmed and eventually giving up completely.Once you outline your S.M.A.R.T. goals\, you&rsquo\;ll know what success looks like and how to measure it. This is important because when you establish S.M.A.R.T. goals\, your team is better positioned for success.</p>\n\n<p>Bring your questions to our first session!</p>\n
LOCATION:https://cmwp_crcog_goals.eventbrite.com/
UID:e.3150.12454
SEQUENCE:3
DTSTAMP:20260425T193019Z
URL:https://business.whchamber.com/events/details/free-quarterly-virtual-business-coaching-12454
END:VEVENT

END:VCALENDAR
