BEGIN:VCALENDAR
VERSION:2.0
PRODID:-//ChamberMaster//Event Calendar 2.0//EN
METHOD:PUBLISH
X-PUBLISHED-TTL:P3D
REFRESH-INTERVAL:P3D
CALSCALE:GREGORIAN
BEGIN:VEVENT
DTSTART:20240601T130000Z
DTEND:20240601T140000Z
X-MICROSOFT-CDO-ALLDAYEVENT:FALSE
SUMMARY:Free Naturopath Meet & Greet: Dr. Ana Engelhardt
DESCRIPTION:INTEGRATIVE NATURAL MEDICINE\n\nHOLISTIC HEALING THAT INCORPORATES MODERN SCIENCE AND NATURAL THERAPEUTICS TO PROVIDE THE BEST TREATMENT FOR YOU.\n\n\n\n\n\n\n\nStarting your own health journey can be overwhelming and confusing.\n\nThere is a slew of misinformation on the internet so I want to help you become the healthiest possible version of yourself. My personalized treatment approach is specifically tailored to you. I deeply value the importance of individualized treatments and maintaining a strong patient-doctor relationship.\n\nBy working together\, my goal is to "uncomplicate" your health and start your journey to wellness!
X-ALT-DESC;FMTTYPE=text/html:<div>\n<div>\n<div>\n<h2 style="text-align:center"><strong>INTEGRATIVE NATURAL MEDICINE</strong></h2>\n\n<h3 style="text-align:center">HOLISTIC HEALING THAT INCORPORATES MODERN SCIENCE AND NATURAL THERAPEUTICS TO PROVIDE THE BEST TREATMENT FOR YOU.</h3>\n</div>\n</div>\n</div>\n\n<div>\n<div>\n<div>\n<p style="text-align:center">Starting your own health journey can be overwhelming and confusing.</p>\n\n<p style="text-align:center">There is a slew of misinformation on the internet so I want to help you become the healthiest possible version of yourself. My personalized treatment approach is specifically tailored to you. I deeply value the importance of individualized treatments and maintaining a strong patient-doctor relationship.</p>\n\n<p style="text-align:center">By working together\, my goal is to &ldquo\;uncomplicate&rdquo\; your health and start your journey to wellness!</p>\n</div>\n</div>\n</div>\n
LOCATION:Balance Massage & Wellness Center 135 Day St Newington\, CT 06111
UID:e.3150.12992
SEQUENCE:3
DTSTAMP:20260424T181206Z
URL:https://business.whchamber.com/events/details/free-naturopath-meet-greet-dr-ana-engelhardt-12992
END:VEVENT

END:VCALENDAR
