BEGIN:VCALENDAR
VERSION:2.0
PRODID:-//ChamberMaster//Event Calendar 2.0//EN
METHOD:PUBLISH
X-PUBLISHED-TTL:P3D
REFRESH-INTERVAL:P3D
CALSCALE:GREGORIAN
BEGIN:VEVENT
DTSTART:20260319T212000Z
DTEND:20260319T220000Z
X-MICROSOFT-CDO-ALLDAYEVENT:FALSE
SUMMARY:Fraud and Scam Seminar
DESCRIPTION:We invite you or your loved ones interested in learning how to safeguard their personal and financial information to join this informative session on fraud\, scams and identity theft. Develop an understanding of red flags to look out for\, how banks help protect you\, how to help protect yourself\, and what to do if you become a victim.
X-ALT-DESC;FMTTYPE=text/html:We invite you or your loved ones interested in learning how to safeguard their personal and financial information to join this informative session on fraud\, scams and identity theft. Develop an understanding of red flags to look out for\, how banks help protect you\, how to help protect yourself\, and what to do if you become a victim.
LOCATION:Bank of America 4 North Main Street West Hartford\, CT 06107 Please use front entrance on Main Street
UID:e.3150.17045
SEQUENCE:3
DTSTAMP:20260425T155132Z
URL:https://business.whchamber.com/events/details/fraud-and-scam-seminar-17045
END:VEVENT

END:VCALENDAR
