BEGIN:VCALENDAR
VERSION:2.0
PRODID:-//ChamberMaster//Event Calendar 2.0//EN
METHOD:PUBLISH
X-PUBLISHED-TTL:P3D
REFRESH-INTERVAL:P3D
CALSCALE:GREGORIAN
BEGIN:VEVENT
DTSTART:20220227T003000Z
DTEND:20220227T023000Z
X-MICROSOFT-CDO-ALLDAYEVENT:FALSE
SUMMARY:Frank London and the Klezmer Brass Allstars
DESCRIPTION:The soulful and inimitable Eleanor Reissa and the "mystical high priest of New Wave Avant-Klez jazz" Frank London have been inspiring each other for over a decade. Together with the great Klezmer Brass Allstars\, whose recording Carnival Conspiracy was in Rolling Stone's top ten world music recordings\, they celebrate the world of Yiddish song\, from the obscure to the chestnuts. Their music together combines the blasphemous with the blessed\, pulling the past into the future and up to the heavens. All JCC COVID protocols will be followed. Proof of vaccination and masks are required.
X-ALT-DESC;FMTTYPE=text/html:The soulful and inimitable Eleanor Reissa and the &quot\;mystical high priest of New Wave Avant-Klez jazz&quot\; Frank London have been inspiring each other for over a decade. Together with the great Klezmer Brass Allstars\, whose recording Carnival Conspiracy was in Rolling Stone&#39\;s top ten world music recordings\, they celebrate the world of Yiddish song\, from the obscure to the chestnuts. Their music together combines the blasphemous with the blessed\, pulling the past into the future and up to the heavens. All JCC COVID protocols will be followed. Proof of vaccination and masks are required.
LOCATION:Gilman Theatre at the Mandell JCC 335 Bloomfield Ave West Hartford\, CT 06117
UID:e.3150.9334
SEQUENCE:3
DTSTAMP:20260425T203618Z
URL:https://business.whchamber.com/events/details/frank-london-and-the-klezmer-brass-allstars-9334
END:VEVENT

END:VCALENDAR
