BEGIN:VCALENDAR
VERSION:2.0
PRODID:-//ChamberMaster//Event Calendar 2.0//EN
METHOD:PUBLISH
X-PUBLISHED-TTL:P3D
REFRESH-INTERVAL:P3D
CALSCALE:GREGORIAN
BEGIN:VEVENT
DTSTART:20220127T010000Z
DTEND:20220227T170000Z
X-MICROSOFT-CDO-ALLDAYEVENT:FALSE
SUMMARY:Five Guys Named Moe
DESCRIPTION:His woman left him\, he?s broke\, and it?s almost five a.m. But don?t worry about our hero. All he needs is the right music?and the right guys?to get him through. Enter five guys named Moe\, stepping out through his radio to cajole\, comfort and jazz him with dozens of whimsical hit songs from the extraordinary Louis Jordan. FIVE GUYS NAMED MOE is an international sensation. Initially produced in London's West End by the legendary Cameron Mackintosh\, this exhilarating\, all-embracing theatrical experience moved to Broadway in 1992 and was nominated for two Tony Awards.
X-ALT-DESC;FMTTYPE=text/html:His woman left him\, he?s broke\, and it?s almost five a.m. But don?t worry about our hero. All he needs is the right music?and the right guys?to get him through. Enter five guys named Moe\, stepping out through his radio to cajole\, comfort and jazz him with dozens of whimsical hit songs from the extraordinary Louis Jordan. FIVE GUYS NAMED MOE is an international sensation. Initially produced in London's West End by the legendary Cameron Mackintosh\, this exhilarating\, all-embracing theatrical experience moved to Broadway in 1992 and was nominated for two Tony Awards.
LOCATION:Playhouse on Park
UID:e.3150.9298
SEQUENCE:3
DTSTAMP:20260425T190835Z
URL:https://business.whchamber.com/events/details/five-guys-named-moe-9298
END:VEVENT

END:VCALENDAR
