BEGIN:VCALENDAR
VERSION:2.0
PRODID:-//ChamberMaster//Event Calendar 2.0//EN
METHOD:PUBLISH
X-PUBLISHED-TTL:P3D
REFRESH-INTERVAL:P3D
CALSCALE:GREGORIAN
BEGIN:VEVENT
DTSTART:20220609T220000Z
DTEND:20220609T233000Z
X-MICROSOFT-CDO-ALLDAYEVENT:FALSE
SUMMARY:First Time Home Buyer Seminar
DESCRIPTION:Buying a home is exciting\, especially if it's your first home. It can also be stressful and confusing. American Eagle Financial Credit Union (NMLS #478241) is holding a free First-time Homebuyer Seminar to take the mystery and anxiety out of the homebuying process. Listen and learn from industry professionals who will share their knowledge and experience as well as answer questions about purchasing your first home.\n\nThis FREE seminar is open to members and nonmembers.
X-ALT-DESC;FMTTYPE=text/html:<p>Buying a home is exciting\, especially if it&#39\;s your first home. It can also be stressful and confusing. American Eagle Financial Credit Union&nbsp\;(NMLS #478241) is holding a free First-time Homebuyer&nbsp\;Seminar to take the mystery and anxiety out of the homebuying process.&nbsp\;Listen and learn from industry professionals who will share their knowledge and experience as well as&nbsp\;answer questions about&nbsp\;purchasing your first&nbsp\;home.</p>\n\n<p>This FREE&nbsp\;seminar is&nbsp\;open to members and nonmembers.</p>\n
LOCATION:American Eagle Financial Credit Union 333 East River Drive\, East Hartford\, CT 06108
UID:e.3150.9480
SEQUENCE:3
DTSTAMP:20260426T040033Z
URL:https://business.whchamber.com/events/details/first-time-home-buyer-seminar-9480
END:VEVENT

END:VCALENDAR
