BEGIN:VCALENDAR
VERSION:2.0
PRODID:-//ChamberMaster//Event Calendar 2.0//EN
METHOD:PUBLISH
X-PUBLISHED-TTL:P3D
REFRESH-INTERVAL:P3D
CALSCALE:GREGORIAN
BEGIN:VEVENT
DTSTART:20240817T140000Z
DTEND:20240817T151500Z
X-MICROSOFT-CDO-ALLDAYEVENT:FALSE
SUMMARY:First Blades Fencing
DESCRIPTION:En garde! If you child is looking for a new challenge\, we have it! Fencing is a combination of athleticism\, confidence and strategy. At our First Blades class your child will learn the basics of footwork\, blade work and bouting with peers. Our small group classes allow for personalized attention as children learn proper form in a supportive environment. Once your child masters the basics\, they will be ready to take on our cadet and juniors classes during the week. Check out our Member to Member deals for an exclusive offer!
X-ALT-DESC;FMTTYPE=text/html:En garde! If you child is looking for a new challenge\, we have it! Fencing is a combination of athleticism\, confidence and strategy. At our First Blades class your child will learn the basics of footwork\, blade work and bouting with peers. Our small group classes allow for personalized attention as children learn proper form in a supportive environment. Once your child masters the basics\, they will be ready to take on our cadet and juniors classes during the week. Check out our Member to Member deals for an exclusive offer!
LOCATION:
UID:e.3150.15240
SEQUENCE:3
DTSTAMP:20260424T152516Z
URL:https://business.whchamber.com/events/details/first-blades-fencing-08-17-2024-15240
END:VEVENT

END:VCALENDAR
