BEGIN:VCALENDAR
VERSION:2.0
PRODID:-//ChamberMaster//Event Calendar 2.0//EN
METHOD:PUBLISH
X-PUBLISHED-TTL:P3D
REFRESH-INTERVAL:P3D
CALSCALE:GREGORIAN
BEGIN:VEVENT
DTSTART:20230228T210000Z
DTEND:20230228T230000Z
X-MICROSOFT-CDO-ALLDAYEVENT:FALSE
SUMMARY:Find your Lucrative Niche
DESCRIPTION:Find your Lucrative NicheTuesday\, February 28\, 2023\, 4   6 p.m.\n		\n	\n\n \n\n\n	\n		\n			During this hands-on workshop\, we'll help you find your most lucrative niche and build your small business path to profitability. Learn how to identify your market opportunities and develop a financial model that will help match your goals and lifestyle.\n\n			\n\n			Register:  https://bit.ly/3ZKq8Ch\n\n			\n\n			Presenter: Janet Johnson\, MyMoneyPivot
X-ALT-DESC;FMTTYPE=text/html:<table border="1" cellpadding="0" cellspacing="0" style="border-bottom:solid #BFBFBF 1.0pt\; border:none\; width:586px">\n	<tbody>\n		<tr>\n			<td style="vertical-align:bottom"><strong><span style="color:black"><span style="font-family:arial\,sans-serif"><span style="font-size:12.0pt">Find your Lucrative Niche</span></span></span></strong><span style="color:black"><span style="font-family:arial\,sans-serif"><span style="font-size:9.0pt">Tuesday\, February 28\, 2023\, 4&nbsp\;&ndash\;&nbsp\;6&nbsp\;p.m.</span></span></span></td>\n		</tr>\n	</tbody>\n</table>\n&nbsp\;\n\n<table border="0" cellpadding="0" cellspacing="0" style="width:586px">\n	<tbody>\n		<tr>\n			<td style="vertical-align:top"><span style="color:black"><span style="font-family:arial\,sans-serif"><span style="font-size:9.0pt">During this hands-on workshop\, we&rsquo\;ll help you find your most lucrative niche and build your small business path to profitability. Learn how to identify your market opportunities and develop a financial model that will help match your goals and lifestyle.</span></span></span><br />\n			<br />\n			<span style="color:black"><span style="font-family:arial\,sans-serif"><span style="font-size:9.0pt">Register:&nbsp\;&nbsp\;<a href="https://bit.ly/3ZKq8Ch" target="_blank"><span style="color:#CC0000">https://bit.ly/3ZKq8Ch</span></a></span></span></span><br />\n			<br />\n			<span style="color:black"><span style="font-family:arial\,sans-serif"><span style="font-size:9.0pt">Presenter: Janet Johnson\, MyMoneyPivot</span></span></span></td>\n		</tr>\n	</tbody>\n</table>\n
LOCATION:
UID:e.3150.12488
SEQUENCE:3
DTSTAMP:20260425T193045Z
URL:https://business.whchamber.com/events/details/find-your-lucrative-niche-12488
END:VEVENT

END:VCALENDAR
