BEGIN:VCALENDAR
VERSION:2.0
PRODID:-//ChamberMaster//Event Calendar 2.0//EN
METHOD:PUBLISH
X-PUBLISHED-TTL:P3D
REFRESH-INTERVAL:P3D
CALSCALE:GREGORIAN
BEGIN:VEVENT
DTSTART:20211115T133000Z
DTEND:20211115T220000Z
X-MICROSOFT-CDO-ALLDAYEVENT:FALSE
SUMMARY:Fill the Van! Mitzvah Monday
DESCRIPTION:Fill the Van and support the Anja Rosenberg Kosher Food Pantry at Jewish Family Services! A mitzvah is a good deed. As we get ready for Thanksgiving and feeding our families\, many families will be going with out. Food insecurity continues to be an issue for many in our community. Please drop off non-perishable food items (preferably kosher) to help stock the shelved at Jewish Family Services' Food Pantry. Wish List: Canned vegetables (corn\, beets\, carrots\, peas\, green beans) Canned beans (black beans\, chickpeas\, kidney beans) Canned Tuna/sardines Boxed pasta Pasta sauce\, tomato sauce\, tomato paste Rice (Brown and white) Peanut Butter Applesauce Condiments (ketchup\, mayo\, mustard\, salad dressing) Salt and Pepper Kids snacks (fruit chews\, granola bars\, goldfish\, snack-size chips)
X-ALT-DESC;FMTTYPE=text/html:Fill the Van and support the Anja Rosenberg Kosher Food Pantry at Jewish Family Services! A mitzvah is a good deed. As we get ready for Thanksgiving and feeding our families\, many families will be going with out. Food insecurity continues to be an issue for many in our community. Please drop off non-perishable food items (preferably kosher) to help stock the shelved at Jewish Family Services&#39\; Food Pantry. Wish List: Canned vegetables (corn\, beets\, carrots\, peas\, green beans) Canned beans (black beans\, chickpeas\, kidney beans) Canned Tuna/sardines Boxed pasta Pasta sauce\, tomato sauce\, tomato paste Rice (Brown and white) Peanut Butter Applesauce Condiments (ketchup\, mayo\, mustard\, salad dressing) Salt and Pepper Kids snacks (fruit chews\, granola bars\, goldfish\, snack-size chips)
LOCATION:Mandell JCC 335 Bloomfield Ave West Hartford\, CT 06117
UID:e.3150.9274
SEQUENCE:3
DTSTAMP:20260425T164617Z
URL:https://business.whchamber.com/events/details/fill-the-van-mitzvah-monday-9274
END:VEVENT

END:VCALENDAR
