BEGIN:VCALENDAR
VERSION:2.0
PRODID:-//ChamberMaster//Event Calendar 2.0//EN
METHOD:PUBLISH
X-PUBLISHED-TTL:P3D
REFRESH-INTERVAL:P3D
CALSCALE:GREGORIAN
BEGIN:VEVENT
DTSTART:20241005T140000Z
DTEND:20241005T190000Z
X-MICROSOFT-CDO-ALLDAYEVENT:FALSE
SUMMARY:Fidelco Octoberfest
DESCRIPTION:DON'T SIT & STAY...COME!\n\n\n\nJoin us for Fidelco's Octoberfest 2024  a fun-filled Fall Festival & Open House featuring food trucks\, a car show\, Puppy Olympics\, guide dog demos\, blindfold walks and more!
X-ALT-DESC;FMTTYPE=text/html:<strong><span style="font-size:11pt">DON&#39\;T SIT &amp\; STAY...COME!</span></strong><br />\n<br />\n<span style="font-size:11pt">Join us for Fidelco&rsquo\;s Octoberfest 2024 &ndash\;a fun-filled Fall Festival &amp\; Open House featuring food trucks\, a car show\, Puppy Olympics\, guide dog demos\, blindfold walks and more!</span>
LOCATION:103 Vision Way\, Bloomfield CT 06002
UID:e.3150.15262
SEQUENCE:3
DTSTAMP:20260424T134606Z
URL:https://business.whchamber.com/events/details/fidelco-octoberfest-10-05-2024-15262
END:VEVENT

END:VCALENDAR
