BEGIN:VCALENDAR
VERSION:2.0
PRODID:-//ChamberMaster//Event Calendar 2.0//EN
METHOD:PUBLISH
X-PUBLISHED-TTL:P3D
REFRESH-INTERVAL:P3D
CALSCALE:GREGORIAN
BEGIN:VEVENT
DTSTART:20240825T170000Z
DTEND:20240825T200000Z
X-MICROSOFT-CDO-ALLDAYEVENT:FALSE
SUMMARY:Fencing Demonstration with EFC at Blue Back Square
DESCRIPTION:Are you intrigued by the elegance and excitement of fencing? Don't miss our Fencing Demo Day at Blue Back Square! Join us from 1-4pm for an action-packed afternoon where our skilled coaches will showcase the art of fencing. Whether you're a complete beginner or have some experience\, our coaches will offer free demonstrations\, mini-lessons\, and a chance to dive into the sport. Swing by\, try your hand at fencing\, and discover what makes this ancient sport so thrilling. No experience necessary just bring your enthusiasm and a sense of adventure!
X-ALT-DESC;FMTTYPE=text/html:Are you intrigued by the elegance and excitement of fencing? Don&#39\;t miss our Fencing Demo Day at Blue Back Square! Join us from 1-4pm for an action-packed afternoon where our skilled coaches will showcase the art of fencing. Whether you&#39\;re a complete beginner or have some experience\, our coaches will offer free demonstrations\, mini-lessons\, and a chance to dive into the sport. Swing by\, try your hand at fencing\, and discover what makes this ancient sport so thrilling. No experience necessary&mdash\;just bring your enthusiasm and a sense of adventure!
LOCATION:Blue Back Square
UID:e.3150.15250
SEQUENCE:3
DTSTAMP:20260424T153737Z
URL:https://business.whchamber.com/events/details/fencing-demonstration-with-efc-at-blue-back-square-15250
END:VEVENT

END:VCALENDAR
