BEGIN:VCALENDAR
VERSION:2.0
PRODID:-//ChamberMaster//Event Calendar 2.0//EN
METHOD:PUBLISH
X-PUBLISHED-TTL:P3D
REFRESH-INTERVAL:P3D
CALSCALE:GREGORIAN
BEGIN:VEVENT
DTSTART:20240815T133000Z
DTEND:20240815T153000Z
X-MICROSOFT-CDO-ALLDAYEVENT:FALSE
SUMMARY:FemCity West Hartford Women's Networking Coffee Connection
DESCRIPTION:Calling all you fabulous female entrepreneurs\, professionals\, and business owners! Join us to meet\, connect\, and grow together!
X-ALT-DESC;FMTTYPE=text/html:<span style="background-color:rgb(255\, 255\, 255)\; color:rgb(57\, 54\, 79)\; font-family:neue plak\,-apple-system\,system-ui\,roboto\,helvetica neue\,helvetica\,tahoma\,arial\,sans-serif\; font-size:14px">Calling all you fabulous female entrepreneurs\, professionals\, and business owners! Join us to meet\, connect\, and grow together!</span><br />\n&nbsp\;
LOCATION:Register HERE!
UID:e.3150.15243
SEQUENCE:3
DTSTAMP:20260424T162409Z
URL:https://business.whchamber.com/events/details/femcity-west-hartford-women-s-networking-coffee-connection-08-15-2024-15243
END:VEVENT

END:VCALENDAR
