BEGIN:VCALENDAR
VERSION:2.0
PRODID:-//ChamberMaster//Event Calendar 2.0//EN
METHOD:PUBLISH
X-PUBLISHED-TTL:P3D
REFRESH-INTERVAL:P3D
CALSCALE:GREGORIAN
BEGIN:VEVENT
DTSTART:20260516T140000Z
DTEND:20260516T180000Z
X-MICROSOFT-CDO-ALLDAYEVENT:FALSE
SUMMARY:Family Arts Festival presented by AFLCT
DESCRIPTION:Family Arts Festival 2026\n\nPresented by Arts for Learning Connecticut\n\nSaturday\, May 16\, 2026   10:00 AM 2:00 PM\n\nWest Hartford Senior Center   West Hartford\, CT\n\nJoin Arts for Learning Connecticut for the second annual Family Arts Festival   a free\, interactive celebration of creativity and arts learning for families across Connecticut. This hands-on event invites children and adults alike to explore visual arts\, dance\, music-making\, theatre\, storytelling\, and more through drop-in activities and engaging mini-workshops led by professional Teaching Artists.\n\nExperience live performances\, try short creative sessions in multiple art forms\, and discover how the arts can inspire learning\, connection\, and joy for all ages. The festival is designed with families and children (ages 3 13) in mind   though everyone is welcome to participate in this vibrant community gathering.\n\nAdmission: Free\n\nRegistration opens March 15   reserve your spot early for workshops and activities! \n\nCorporate Sponsorships are available. Click HERE or contact us directly via jkornbluh@aflct.org.
X-ALT-DESC;FMTTYPE=text/html:<p><strong>Family Arts Festival 2026</strong><br />\n<strong>Presented by Arts for Learning Connecticut</strong></p>\n\n<p><strong>Saturday\, May 16\, 2026 &bull\; 10:00 AM&ndash\;2:00 PM</strong><br />\n<strong>West Hartford Senior Center &mdash\; West Hartford\, CT</strong></p>\n\n<p>Join Arts for Learning Connecticut for the <strong>second annual Family Arts Festival</strong> &mdash\; a free\, interactive celebration of creativity and arts learning for families across Connecticut. This hands-on event invites children and adults alike to explore <strong>visual arts\, dance\, music-making\, theatre\, storytelling\, and more</strong> through drop-in activities and engaging mini-workshops led by professional Teaching Artists.</p>\n\n<p>Experience <strong>live performances</strong>\, try short creative sessions in multiple art forms\, and discover how the arts can inspire learning\, connection\, and joy for all ages. The festival is designed with families and children (ages 3&ndash\;13) in mind &mdash\; though everyone is welcome to participate in this vibrant community gathering.</p>\n\n<p><strong>Admission:</strong> Free<br />\n<strong>Registration opens March 15</strong> &mdash\; reserve your spot early for workshops and activities!&nbsp\;</p>\n\n<p>Corporate Sponsorships are available. Click <a href="https://www.aflct.org/family-arts-festival-west-hartford-2026-sponsorship/">HERE</a> or contact us directly via <a href="mailto:jkornbluh@aflct.org?subject=Family%20Arts%20Festival%20Sponsorship">jkornbluh@aflct.org</a>.</p>\n
LOCATION:West Hartford Senior Center @ Bishops Corner 15 Starkel Rd\, West Hartford\, CT 06117
UID:e.3150.17051
SEQUENCE:3
DTSTAMP:20260425T143629Z
URL:https://business.whchamber.com/events/details/family-arts-festival-presented-by-aflct-17051
END:VEVENT

END:VCALENDAR
