BEGIN:VCALENDAR
VERSION:2.0
PRODID:-//ChamberMaster//Event Calendar 2.0//EN
METHOD:PUBLISH
X-PUBLISHED-TTL:P3D
REFRESH-INTERVAL:P3D
CALSCALE:GREGORIAN
BEGIN:VEVENT
DTSTART:20230330T210000Z
DTEND:20230330T233000Z
X-MICROSOFT-CDO-ALLDAYEVENT:FALSE
SUMMARY:Exhibition Opening Reception
DESCRIPTION:The Art Museum\, USJ invites you to a reception on Thursday\, March 30 from 5-7:30 p.m. to celebrate the opening of two new exhibitions\, Trailblazer: A Tribute to Toko Shinoda and By the Book: Writers\, Artists\, and Illustrations.\n\n\n\nDuring the opening\, enjoy some refreshments while listening to Garrett Groesbeck on the koto At 6 p.m.\, Allison Tolman\, an art dealer and longtime friend of Toko Shinoda\, will speak about the the artist and her work.\n\n\n\nThis event is free and open to the public. To register for this event or view other upcoming events\, visit ArtMuseumUSJ.eventbrite.com.
X-ALT-DESC;FMTTYPE=text/html:<span style="color:black"><span style="font-family:verdana\,sans-serif"><span style="font-size:10.0pt">The Art Museum\, USJ invites you to a reception on Thursday\, March 30 from 5-7:30 p.m. to celebrate the opening of two new exhibitions\, <em>Trailblazer: A Tribute to Toko Shinoda</em> and <em>By the Book: Writers\, Artists\, and Illustrations</em>.<br />\n<br />\nDuring the opening\, enjoy some refreshments while listening to Garrett Groesbeck on the koto At 6 p.m.\, Allison Tolman\, an art dealer and longtime friend of Toko Shinoda\, will speak about the the artist and her work.<br />\n<br />\nThis event is free and open to the public. To register for this event or view other upcoming events\, visit </span></span></span><a href="https://www.eventbrite.com/o/art-museum-university-of-saint-joseph-29496120581"><span style="color:rgb(0\, 0\, 0)\; font-family:verdana\,sans-serif\; font-size:13.3333px">ArtMuseumUSJ.eventbrite.com</span></a><span style="color:black"><span style="font-family:verdana\,sans-serif"><span style="font-size:10.0pt">.</span></span></span><br />\n&nbsp\;
LOCATION:Art Museum\, University of Saint Joseph Bruyette Athenaeum 1678 Asylum Ave. West Hartford\, CT 06117
UID:e.3150.12525
SEQUENCE:3
DTSTAMP:20260425T164505Z
URL:https://business.whchamber.com/events/details/exhibition-opening-reception-12525
END:VEVENT

END:VCALENDAR
