BEGIN:VCALENDAR
VERSION:2.0
PRODID:-//ChamberMaster//Event Calendar 2.0//EN
METHOD:PUBLISH
X-PUBLISHED-TTL:P3D
REFRESH-INTERVAL:P3D
CALSCALE:GREGORIAN
BEGIN:VEVENT
DTSTART:20230616T160000Z
DTEND:20230616T190000Z
X-MICROSOFT-CDO-ALLDAYEVENT:FALSE
SUMMARY:Entrepreneurial Wellness with CMWP
DESCRIPTION:Explore various wellness sessions where Black and brown businesses will host 15-minute wellness sessions.\n\n\n	Financial Wellness\n	Physical Wellness\n	M?ental Wellness\n	S?ocial Wellness\n\n\nPatrina Dixon\, Founder & CEO of It'$ My Money will discuss the importance of financial wellness as a Black business owner.\n\n\n	L?unch and refreshments served\n	C?hildpreneur vendor tables available\n	C?hildcare provided
X-ALT-DESC;FMTTYPE=text/html:<p>Explore various wellness sessions where Black and brown businesses will host 15-minute wellness sessions.</p>\n\n<ul>\n	<li>Financial Wellness</li>\n	<li>Physical Wellness</li>\n	<li>M?ental Wellness</li>\n	<li>S?ocial Wellness</li>\n</ul>\n\n<p>Patrina Dixon\, Founder &amp\; CEO of It&#39\;$ My Money will discuss the importance of financial wellness as a Black business owner.</p>\n\n<ul>\n	<li>L?unch and refreshments served</li>\n	<li>C?hildpreneur vendor tables available</li>\n	<li>C?hildcare provided</li>\n</ul>\n
LOCATION:The Moment Factory LLC 695 Oakwood Avenue West Hartford\, CT\, 06110
UID:e.3150.12590
SEQUENCE:3
DTSTAMP:20260425T132839Z
URL:https://business.whchamber.com/events/details/entrepreneurial-wellness-with-cmwp-12590
END:VEVENT

END:VCALENDAR
