BEGIN:VCALENDAR
VERSION:2.0
PRODID:-//ChamberMaster//Event Calendar 2.0//EN
METHOD:PUBLISH
X-PUBLISHED-TTL:P3D
REFRESH-INTERVAL:P3D
CALSCALE:GREGORIAN
BEGIN:VEVENT
DTSTART:20250426T220000Z
DTEND:20250427T040000Z
X-MICROSOFT-CDO-ALLDAYEVENT:FALSE
SUMMARY:Encore! PoP Rocks!
DESCRIPTION:We proudly invite you to be part of one of spring 2025's hottest events\, being held at one of the newest Connecticut event venues! All proceeds from this unforgettable evening will help keep professional live theatre on the Playhouse on Park stage and bring excellent theatre arts programs to children\, youth\, and schools through Playhouse Theatre Academy for years to come. This year\, we are going rock n' roll with the theme POP Rocks! which will be fully realized through all aspects of the event. We hope you will join us for this unforgettable evening of fine dining\, dancing\, live and silent auctions\, and the world class entertainment that only Playhouse on Park can produce. We will also raise a toast to our 16th Anniversary and rock on by celebrating the past sixteen seasons here at the Playhouse. Evening includes dinner\, drinks\, live/silent auctions\, dancing\, live performances\, and more! Dress like a Rock Star!
X-ALT-DESC;FMTTYPE=text/html:We proudly invite you to be part of one of spring 2025&#39\;s hottest events\, being held at one of the newest Connecticut event venues! All proceeds from this unforgettable evening will help keep professional live theatre on the Playhouse on Park stage and bring excellent theatre arts programs to children\, youth\, and schools through Playhouse Theatre Academy for years to come. This year\, we are going rock n&rsquo\; roll with the theme POP Rocks! which will be fully realized through all aspects of the event. We hope you will join us for this unforgettable evening of fine dining\, dancing\, live and silent auctions\, and the world class entertainment that only Playhouse on Park can produce. We will also raise a toast to our 16th Anniversary and rock on by celebrating the past sixteen seasons here at the Playhouse. Evening includes dinner\, drinks\, live/silent auctions\, dancing\, live performances\, and more! Dress like a Rock Star!
LOCATION:Bristol Event Center
UID:e.3150.15913
SEQUENCE:3
DTSTAMP:20260424T065820Z
URL:https://business.whchamber.com/events/details/encore-pop-rocks-15913
END:VEVENT

END:VCALENDAR
