BEGIN:VCALENDAR
VERSION:2.0
PRODID:-//ChamberMaster//Event Calendar 2.0//EN
METHOD:PUBLISH
X-PUBLISHED-TTL:P3D
REFRESH-INTERVAL:P3D
CALSCALE:GREGORIAN
BEGIN:VEVENT
DTSTART:20220507T130000Z
DTEND:20220507T160000Z
X-MICROSOFT-CDO-ALLDAYEVENT:FALSE
SUMMARY:Elmwood Community Clean-Up day!
DESCRIPTION:Elmwood Community Clean-Up Day is upon us once again.  We are looking for volunteers to help us clean up our neighborhood.  This event will be held rain or shine.  We will meet at the Faxon Library parking lot at 8:45 am.  Garbage bags\, gloves\, and wipes will be provided.  Hope you can join us!
X-ALT-DESC;FMTTYPE=text/html:Elmwood Community Clean-Up Day is upon us once again.&nbsp\; We are looking for volunteers to help us clean up our neighborhood.&nbsp\; This event will be held rain or shine.&nbsp\; We will meet at the Faxon Library parking lot at 8:45 am.&nbsp\; Garbage bags\, gloves\, and wipes will be provided.&nbsp\; Hope you can join us!
LOCATION:
UID:e.3150.9465
SEQUENCE:3
DTSTAMP:20260426T010531Z
URL:https://business.whchamber.com/events/details/elmwood-community-clean-up-day-9465
END:VEVENT

END:VCALENDAR
