BEGIN:VCALENDAR
VERSION:2.0
PRODID:-//ChamberMaster//Event Calendar 2.0//EN
METHOD:PUBLISH
X-PUBLISHED-TTL:P3D
REFRESH-INTERVAL:P3D
CALSCALE:GREGORIAN
BEGIN:VEVENT
DTSTART:20211105T123000Z
DTEND:20211105T133000Z
X-MICROSOFT-CDO-ALLDAYEVENT:FALSE
SUMMARY:Elmwood Business Association Meeting
DESCRIPTION:Elmwood Business Association's monthly meeting is this Friday\, November 5th at 8:30 am.  The meeting will be held at the GastroPark.  Pastries from Small State Provisions and coffee from the Perkatory will be provided.  All are welcome\, both members and non-members.  If you care about Elmwood.....come check us out!  Hope to see you there.
X-ALT-DESC;FMTTYPE=text/html:Elmwood Business Association&#39\;s monthly meeting is this Friday\, November 5th at 8:30 am.&nbsp\; The meeting will be held at the GastroPark.&nbsp\; Pastries from Small State Provisions and coffee from the Perkatory will be provided.&nbsp\; All are welcome\, both members and non-members.&nbsp\; If you care about Elmwood.....come check us out!&nbsp\; Hope to see you there.
LOCATION:
UID:e.3150.9269
SEQUENCE:3
DTSTAMP:20260425T181009Z
URL:https://business.whchamber.com/events/details/elmwood-business-association-meeting-9269
END:VEVENT

END:VCALENDAR
