BEGIN:VCALENDAR
VERSION:2.0
PRODID:-//ChamberMaster//Event Calendar 2.0//EN
METHOD:PUBLISH
X-PUBLISHED-TTL:P3D
REFRESH-INTERVAL:P3D
CALSCALE:GREGORIAN
BEGIN:VEVENT
DTSTART:20211203T133000Z
DTEND:20211203T143000Z
X-MICROSOFT-CDO-ALLDAYEVENT:FALSE
SUMMARY:Elmwood Business Association Meeting
DESCRIPTION:The Elmwood Business Association's monthly meeting is this Friday at the Gastropark.   Members and non-members are welcome.  There are numerous topics affecting the Elmwood area which will be covered in our meeting.  This will be one you do not want to miss.  Also\, anyone not able to attend our meetings can get our monthly emails with updates for our area.  You can email us to get on our email list.  Our email is elmwoodba1@gmail.com.  Hope to see you there!
X-ALT-DESC;FMTTYPE=text/html:The Elmwood Business Association&#39\;s monthly meeting is this Friday at the Gastropark.&nbsp\; &nbsp\;Members and non-members are welcome.&nbsp\; There are numerous topics affecting the Elmwood area which will be covered in our meeting.&nbsp\; This will be one you do not want to miss.&nbsp\; Also\, anyone not able to attend our meetings can get our monthly emails with updates for our area.&nbsp\; You can email us to get on our email list.&nbsp\; Our email is elmwoodba1@gmail.com.&nbsp\; Hope to see you there!
LOCATION:
UID:e.3150.9290
SEQUENCE:3
DTSTAMP:20260425T175936Z
URL:https://business.whchamber.com/events/details/elmwood-business-association-meeting-12-03-2021-9290
END:VEVENT

END:VCALENDAR
