BEGIN:VCALENDAR
VERSION:2.0
PRODID:-//ChamberMaster//Event Calendar 2.0//EN
METHOD:PUBLISH
X-PUBLISHED-TTL:P3D
REFRESH-INTERVAL:P3D
CALSCALE:GREGORIAN
BEGIN:VEVENT
DTSTART:20221104T123000Z
DTEND:20221104T133000Z
X-MICROSOFT-CDO-ALLDAYEVENT:FALSE
SUMMARY:Elmwood Business Association Meeting
DESCRIPTION:We are back!!!  The Elmwood Business Association is meeting this Friday at the WeHa Brewing & Roasting.  If you are a business in this part of town\, or actually any part of town\, you won't want to miss these meetings.  We discuss happenings in West Hartford and specifically the Elmwood section.  Town representatives are always in attendance.  Hope to see you there.  Free coffee and pastries for everyone!
X-ALT-DESC;FMTTYPE=text/html:We are back!!!&nbsp\; The Elmwood Business Association is meeting this Friday at the WeHa Brewing &amp\; Roasting.&nbsp\; If you are a business in this part of town\, or actually any part of town\, you won&#39\;t want to miss these meetings.&nbsp\; We discuss happenings in West Hartford and specifically the Elmwood section.&nbsp\; Town representatives are always in attendance.&nbsp\; Hope to see you there.&nbsp\; Free coffee and pastries for everyone!
LOCATION:WeHa Brewing & Roasting 141 Shield St\, West Hartford\, CT 06110
UID:e.3150.10983
SEQUENCE:3
DTSTAMP:20260425T224516Z
URL:https://business.whchamber.com/events/details/elmwood-business-association-meeting-11-04-2022-10983
END:VEVENT

END:VCALENDAR
