BEGIN:VCALENDAR
VERSION:2.0
PRODID:-//ChamberMaster//Event Calendar 2.0//EN
METHOD:PUBLISH
X-PUBLISHED-TTL:P3D
REFRESH-INTERVAL:P3D
CALSCALE:GREGORIAN
BEGIN:VEVENT
DTSTART:20220107T133000Z
DTEND:20220107T143000Z
X-MICROSOFT-CDO-ALLDAYEVENT:FALSE
SUMMARY:Elmwood Business Association Meeting
DESCRIPTION:The Elmwood Business Association will be having its monthly association meeting virtually this month.  Our meeting will be packed with information that you won't want to miss.  In addition to our usual "monthly" reports\, we will have a guest speaker\, Jack Cunningham from Environmental Systems Corp located right here in Elmwood.  Jack will be discussing programs that the state offers in regards to energy efficiency and sustainability.  Two very important things for our businesses\, especially during the winter months.  Our meetings are open to everyone and the zoom link is as follows:\n\nTopic: Elmwood Business Association Meeting - 1/7/22\n\nTime: Jan 7\, 2022 08:30 AM Eastern Time (US and Canada)\n\n\n\nJoin Zoom Meeting\n\nhttps://us02web.zoom.us/j/7993329967\n\n\n\nMeeting ID: 799 332 9967\n\nOne tap mobile\n\n+19292056099\,\,7993329967# US (New York)\n\n+13017158592\,\,7993329967# US (Washington DC)\n\n\n\nDial by your location\n\n        +1 929 205 6099 US (New York)\n\n        +1 301 715 8592 US (Washington DC)\n\n        +1 312 626 6799 US (Chicago)\n\n        +1 669 900 6833 US (San Jose)\n\n        +1 253 215 8782 US (Tacoma)\n\n        +1 346 248 7799 US (Houston)\n\nMeeting ID: 799 332 9967\n\nFind your local number: https://us02web.zoom.us/u/knU63XFa1
X-ALT-DESC;FMTTYPE=text/html:The Elmwood Business Association will be having its monthly association meeting virtually this month.&nbsp\; Our meeting will be packed with information that you won&#39\;t want to miss.&nbsp\; In addition to our usual &quot\;monthly&quot\; reports\, we will have a guest speaker\, Jack Cunningham from Environmental Systems Corp located right here in Elmwood.&nbsp\;&nbsp\;Jack will be discussing programs that the state offers in regards to energy efficiency and sustainability.&nbsp\; Two very important things for our businesses\, especially during the winter months.&nbsp\; Our meetings are open to everyone and the zoom link is as follows:<br />\n<span style="background-color:rgb(255\, 255\, 255)\; color:rgb(34\, 34\, 34)\; font-family:arial\,helvetica\,sans-serif\; font-size:small">Topic: Elmwood Business Association Meeting - 1/7/22</span><br />\n<span style="background-color:rgb(255\, 255\, 255)\; color:rgb(34\, 34\, 34)\; font-family:arial\,helvetica\,sans-serif\; font-size:small">Time: Jan 7\, 2022 08:30 AM Eastern Time (US and Canada)</span><br />\n<br />\n<span style="background-color:rgb(255\, 255\, 255)\; color:rgb(34\, 34\, 34)\; font-family:arial\,helvetica\,sans-serif\; font-size:small">Join Zoom Meeting</span><br />\n<a href="https://us02web.zoom.us/j/7993329967" style="color: rgb(17\, 85\, 204)\; font-family: Arial\, Helvetica\, sans-serif\; font-size: small\; background-color: rgb(255\, 255\, 255)\;" target="_blank">https://us02web.zoom.us/j/7993329967</a><br />\n<br />\n<span style="background-color:rgb(255\, 255\, 255)\; color:rgb(34\, 34\, 34)\; font-family:arial\,helvetica\,sans-serif\; font-size:small">Meeting ID: 799 332 9967</span><br />\n<span style="background-color:rgb(255\, 255\, 255)\; color:rgb(34\, 34\, 34)\; font-family:arial\,helvetica\,sans-serif\; font-size:small">One tap mobile</span><br />\n<span style="background-color:rgb(255\, 255\, 255)\; color:rgb(34\, 34\, 34)\; font-family:arial\,helvetica\,sans-serif\; font-size:small">+19292056099\,\,7993329967# US (New York)</span><br />\n<span style="background-color:rgb(255\, 255\, 255)\; color:rgb(34\, 34\, 34)\; font-family:arial\,helvetica\,sans-serif\; font-size:small">+13017158592\,\,7993329967# US (Washington DC)</span><br />\n<br />\n<span style="background-color:rgb(255\, 255\, 255)\; color:rgb(34\, 34\, 34)\; font-family:arial\,helvetica\,sans-serif\; font-size:small">Dial by your location</span><br />\n<span style="background-color:rgb(255\, 255\, 255)\; color:rgb(34\, 34\, 34)\; font-family:arial\,helvetica\,sans-serif\; font-size:small">&nbsp\;&nbsp\;&nbsp\;&nbsp\;&nbsp\;&nbsp\;&nbsp\; +1 929 205 6099 US (New York)</span><br />\n<span style="background-color:rgb(255\, 255\, 255)\; color:rgb(34\, 34\, 34)\; font-family:arial\,helvetica\,sans-serif\; font-size:small">&nbsp\;&nbsp\;&nbsp\;&nbsp\;&nbsp\;&nbsp\;&nbsp\; +1 301 715 8592 US (Washington DC)</span><br />\n<span style="background-color:rgb(255\, 255\, 255)\; color:rgb(34\, 34\, 34)\; font-family:arial\,helvetica\,sans-serif\; font-size:small">&nbsp\;&nbsp\;&nbsp\;&nbsp\;&nbsp\;&nbsp\;&nbsp\; +1 312 626 6799 US (Chicago)</span><br />\n<span style="background-color:rgb(255\, 255\, 255)\; color:rgb(34\, 34\, 34)\; font-family:arial\,helvetica\,sans-serif\; font-size:small">&nbsp\;&nbsp\;&nbsp\;&nbsp\;&nbsp\;&nbsp\;&nbsp\; +1 669 900 6833 US (San Jose)</span><br />\n<span style="background-color:rgb(255\, 255\, 255)\; color:rgb(34\, 34\, 34)\; font-family:arial\,helvetica\,sans-serif\; font-size:small">&nbsp\;&nbsp\;&nbsp\;&nbsp\;&nbsp\;&nbsp\;&nbsp\; +1 253 215 8782 US (Tacoma)</span><br />\n<span style="background-color:rgb(255\, 255\, 255)\; color:rgb(34\, 34\, 34)\; font-family:arial\,helvetica\,sans-serif\; font-size:small">&nbsp\;&nbsp\;&nbsp\;&nbsp\;&nbsp\;&nbsp\;&nbsp\; +1 346 248 7799 US (Houston)</span><br />\n<span style="background-color:rgb(255\, 255\, 255)\; color:rgb(34\, 34\, 34)\; font-family:arial\,helvetica\,sans-serif\; font-size:small">Meeting ID: 799 332 9967</span><br />\n<span style="background-color:rgb(255\, 255\, 255)\; color:rgb(34\, 34\, 34)\; font-family:arial\,helvetica\,sans-serif\; font-size:small">Find your local number:&nbsp\;</span><a href="https://us02web.zoom.us/u/knU63XFa1" style="color: rgb(17\, 85\, 204)\; font-family: Arial\, Helvetica\, sans-serif\; font-size: small\; background-color: rgb(255\, 255\, 255)\;" target="_blank">https://us02web.zoom.us/u/knU63XFa1</a><br />\n<br />\n&nbsp\;
LOCATION:
UID:e.3150.9310
SEQUENCE:3
DTSTAMP:20260425T192530Z
URL:https://business.whchamber.com/events/details/elmwood-business-association-meeting-01-07-2022-9310
END:VEVENT

END:VCALENDAR
