BEGIN:VCALENDAR
VERSION:2.0
PRODID:-//ChamberMaster//Event Calendar 2.0//EN
METHOD:PUBLISH
X-PUBLISHED-TTL:P3D
REFRESH-INTERVAL:P3D
CALSCALE:GREGORIAN
BEGIN:VEVENT
DTSTART:20250422T140000Z
DTEND:20250422T160000Z
X-MICROSOFT-CDO-ALLDAYEVENT:FALSE
SUMMARY:Earth Day Hike at Auerfarm State Park
DESCRIPTION:Join us as we explore the Auerfarm State Park Scenic Reserve (Bloomfield) and MDC Reservoir 6 (West Hartford) on a recently created trail connecting these properties through the 4-H Center at Auerfarm.\n\nWe'll spend 2 hours walking approximately 2.5 miles along mostly level terrain discussing the history of the protection of these properties and area geology. Expect the trails to be wet at this time of year\, so be sure to wear appropriate footwear.\n\nThe hike will start at the parking area adjacent to the Auerfarm Scenic Reserve sign.\n\nThis hike is co-sponsored by Traprock Ridge Land Conservancy and Simsbury Land Trust.
X-ALT-DESC;FMTTYPE=text/html:<p>Join us as we explore the Auerfarm State Park Scenic Reserve (Bloomfield) and MDC Reservoir 6 (West Hartford) on a recently created trail connecting these properties through the 4-H Center at Auerfarm.</p>\n\n<p>We&rsquo\;ll spend 2 hours walking approximately 2.5 miles along mostly level terrain discussing the history of the protection of these properties and area geology. Expect the trails to be wet at this time of year\, so be sure to wear appropriate footwear.</p>\n\n<p>The hike will start at the parking area adjacent to the Auerfarm Scenic Reserve sign.</p>\n\n<p>This hike is co-sponsored by Traprock Ridge Land Conservancy and Simsbury Land Trust.</p>\n
LOCATION:35 Auer Farm Road\, Bloomfield
UID:e.3150.16558
SEQUENCE:3
DTSTAMP:20260424T065947Z
URL:https://business.whchamber.com/events/details/earth-day-hike-at-auerfarm-state-park-16558
END:VEVENT

END:VCALENDAR
