BEGIN:VCALENDAR
VERSION:2.0
PRODID:-//ChamberMaster//Event Calendar 2.0//EN
METHOD:PUBLISH
X-PUBLISHED-TTL:P3D
REFRESH-INTERVAL:P3D
CALSCALE:GREGORIAN
BEGIN:VEVENT
DTSTART:20250412T170000Z
DTEND:20250412T200000Z
X-MICROSOFT-CDO-ALLDAYEVENT:FALSE
SUMMARY:Early American Games & Toys | Life on the Webster Farm: Work Days
DESCRIPTION:Visit the Noah Webster House & West Hartford Historical Society on Saturday\, April 12\, 2025 from 1:00pm - 4:00pm to enjoy live demonstrations from our experienced team of museum educators. Each demonstration will focus on a unique aspect of early American work and play.\n\nApril 12\, 2025   Early American Games & Toys\n\nWhile early Americans worked hard to fulfill household and farming responsibilities\, they also found some time to have fun! Museum teachers will show your family how to play centuries-old games like "Jack Straws" and the "ball & cup"\, the Jacob's ladder\, hand tops\, or "button buzzers." Make your own ball and cup or cornhusk doll to take home with you!\n\nThis program is included in museum admission. Enjoy FREE general admission for children under 12 for this event!\n\nFor more information\, please email education@noahwebsterhouse.org or visit www.noahwebsterhouse.org/work-days.\n\nThank you to our 2025 Sponsor\, the Rotary Club of West Hartford!
X-ALT-DESC;FMTTYPE=text/html:<p><span style="background-color:transparent\; color:rgb(68\, 68\, 68)\; font-family:arial\,sans-serif\; font-size:12pt">Visit the Noah Webster House &amp\; West Hartford Historical Society on </span><strong>Saturday\, </strong><strong>April 12\, 2025</strong><span style="background-color:transparent\; color:rgb(68\, 68\, 68)\; font-family:arial\,sans-serif\; font-size:12pt"> from 1:00pm - 4:00pm to enjoy live demonstrations from our experienced team of museum educators. Each demonstration will focus on a unique aspect of early American work and play.</span></p>\n\n<p><strong>April 12\, 2025 &ndash\;</strong><strong> </strong><strong>Early American Games &amp\; Toys</strong></p>\n\n<p><strong>While early Americans worked hard to fulfill household and farming responsibilities\, they also found some time to have fun! Museum teachers will show your family how to play centuries-old games like &ldquo\;Jack Straws&rdquo\; and the &ldquo\;ball &amp\; cup&rdquo\;\, the Jacob&rsquo\;s ladder\, hand tops\, or &ldquo\;button buzzers.&rdquo\; Make your own ball and cup or cornhusk doll to take home with you!</strong></p>\n\n<p><span style="background-color:transparent\; color:rgb(68\, 68\, 68)\; font-family:arial\,sans-serif\; font-size:12pt">This program is included in museum admission. Enjoy </span><strong>FREE</strong><span style="background-color:transparent\; color:rgb(68\, 68\, 68)\; font-family:arial\,sans-serif\; font-size:12pt"> general admission for children under 12 for this event!</span></p>\n\n<p><span style="background-color:transparent\; color:rgb(68\, 68\, 68)\; font-family:arial\,sans-serif\; font-size:12pt">For more information\, please email education@noahwebsterhouse.org or visit</span><a href="https://noahwebsterhouse.org/work-days/" style="text-decoration-line: none\;"><span style="background-color:transparent\; color:rgb(68\, 68\, 68)\; font-family:arial\,sans-serif\; font-size:12pt"> </span><span style="background-color:transparent\; color:rgb(17\, 85\, 204)\; font-family:arial\,sans-serif\; font-size:12pt">www.noahwebsterhouse.org/work-days</span></a><span style="background-color:transparent\; color:rgb(68\, 68\, 68)\; font-family:arial\,sans-serif\; font-size:12pt">.</span></p>\n\n<p><span style="background-color:transparent\; color:rgb(68\, 68\, 68)\; font-family:arial\,sans-serif\; font-size:12pt">Thank you to our 2025 Sponsor\, the Rotary Club of West Hartford!</span></p>\n\n<div>&nbsp\;</div>\n
LOCATION:Noah Webster House & West Hartford Historical Society 227 South Main Street\, West Hartford\, CT\, 06107
UID:e.3150.16562
SEQUENCE:3
DTSTAMP:20260424T070305Z
URL:https://business.whchamber.com/events/details/early-american-games-toys-life-on-the-webster-farm-work-days-16562
END:VEVENT

END:VCALENDAR
