BEGIN:VCALENDAR
VERSION:2.0
PRODID:-//ChamberMaster//Event Calendar 2.0//EN
METHOD:PUBLISH
X-PUBLISHED-TTL:P3D
REFRESH-INTERVAL:P3D
CALSCALE:GREGORIAN
BEGIN:VEVENT
DTSTART:20250215T180000Z
DTEND:20250215T210000Z
X-MICROSOFT-CDO-ALLDAYEVENT:FALSE
SUMMARY:Dr. Wonderful
DESCRIPTION:A mystery science musical for young audiences! Fly through the solar system with Dr. Wonderful and her amazing adventure team of Newton (the dog)\, Ben (the human)\, and Mom (the Mom)! Girl-detective-noir meets science-geek-chic in this super cool astronomical musical theatre event that will take you across the universe with fun\, flair\, and science.
X-ALT-DESC;FMTTYPE=text/html:A mystery science musical for young audiences! Fly through the solar system with Dr. Wonderful and her amazing adventure team of Newton (the dog)\, Ben (the human)\, and Mom (the Mom)! Girl-detective-noir meets science-geek-chic in this super cool astronomical musical theatre event that will take you across the universe with fun\, flair\, and science.
LOCATION:Playhouse on Park 244 Park Road\, West Hartford\, CT 06119
UID:e.3150.15835
SEQUENCE:3
DTSTAMP:20260424T041412Z
URL:https://business.whchamber.com/events/details/dr-wonderful-15835
END:VEVENT

END:VCALENDAR
