BEGIN:VCALENDAR
VERSION:2.0
PRODID:-//ChamberMaster//Event Calendar 2.0//EN
METHOD:PUBLISH
X-PUBLISHED-TTL:P3D
REFRESH-INTERVAL:P3D
CALSCALE:GREGORIAN
BEGIN:VEVENT
DTSTART:20220316T233000Z
DTEND:20220327T180000Z
X-MICROSOFT-CDO-ALLDAYEVENT:FALSE
SUMMARY:DIVAS: DOUBLE OR NOTHING
DESCRIPTION:Ever wish you could see all of your favorite DIVAS on one stage? Well\, thanks to award-winning choreographer/director\, Darlene Zoller\, West Hartford is getting the DIVA treatment! Our resident dance company\, stop/time dance theater\, now in its 17th year\, is bringing the heat and paying homage to all of your favorites: Cher\, Tina\, Gloria\, Shania\, Dolly\, Whitney...and more! DIVAS is an original show featuring 18 outstanding company members who will sing and dance their way into your heart with a mix of tap\, jazz\, swing and funk. This will be a non-stop\, high-energy extravaganza with high kicks and even higher notes\, so grab some friends and get your tickets today! And remember...what happens at Playhouse on Park stays at Playhouse on Park (but you're going to want to tell everyone you know)! Previews (March 16 & 17) Wednesday at 7:30pm Thursday 7:30pm Regular Performances (March 18 - 27) Friday at 8:00pm Saturday at 2:00pm (March 26) and 8:00pm (March 19 & 26) Sunday at 2:00pm Wednesday at 7:30pm Thursday at 7:30pm Talk Back with the cast after the Sunday matinee performances.
X-ALT-DESC;FMTTYPE=text/html:Ever wish you could see all of your favorite DIVAS on one stage? Well\, thanks to award-winning choreographer/director\, Darlene Zoller\, West Hartford is getting the DIVA treatment! Our resident dance company\, stop/time dance theater\, now in its 17th year\, is bringing the heat and paying homage to all of your favorites: Cher\, Tina\, Gloria\, Shania\, Dolly\, Whitney...and more! DIVAS is an original show featuring 18 outstanding company members who will sing and dance their way into your heart with a mix of tap\, jazz\, swing and funk. This will be a non-stop\, high-energy extravaganza with high kicks and even higher notes\, so grab some friends and get your tickets today! And remember...what happens at Playhouse on Park stays at Playhouse on Park (but you&rsquo\;re going to want to tell everyone you know)! Previews (March 16 &amp\; 17) Wednesday at 7:30pm Thursday 7:30pm Regular Performances (March 18 - 27) Friday at 8:00pm Saturday at 2:00pm (March 26) and 8:00pm (March 19 &amp\; 26) Sunday at 2:00pm Wednesday at 7:30pm Thursday at 7:30pm Talk Back with the cast after the Sunday matinee performances.
LOCATION:Playhouse on Park
UID:e.3150.9364
SEQUENCE:3
DTSTAMP:20260425T220845Z
URL:https://business.whchamber.com/events/details/divas-double-or-nothing-9364
END:VEVENT

END:VCALENDAR
