BEGIN:VCALENDAR
VERSION:2.0
PRODID:-//ChamberMaster//Event Calendar 2.0//EN
METHOD:PUBLISH
X-PUBLISHED-TTL:P3D
REFRESH-INTERVAL:P3D
CALSCALE:GREGORIAN
BEGIN:VEVENT
DTSTART:20220924T130000Z
DTEND:20220924T160000Z
X-MICROSOFT-CDO-ALLDAYEVENT:FALSE
SUMMARY:Diane's Helping Hands - Ovarian Cancer Awareness Walk
DESCRIPTION:We are pleased to announce our 1st Annual Ovarian Cancer Walk Saturday\, September 24\, 2022\, at Dunkin Donuts Park in Hartford\, CT.  This event will raise awareness\, and provide support for Diane's Helping Hands mission\, programs that benefit ovarian cancer patients and their families\, and a donation will be made to support the National Ovarian Cancer Coalition (NOCC).\n\n\n\nWe cordially invite you to participate in DHH Ovarian Cancer Walk as we bring hope to individuals impacted by ovarian cancer\, honor those we lost\, and celebrate survivors in the Greater Hartford Area.   There are several ways for you to do so.1)     Walk as an individual or part of a team. While there is no entry fee\, we do encourage you to donate and invite others to support you in this endeavor.  To register as a walker\, or create a team for your organization visit our website Ovarian Cancer Walk (dianeshelpinghands.com)\n\n2)     Become one of our sponsors. For more information\, please see the attached sponsorship letter.\n\n3)     Make an in-kind donation for our walker bags. \n\n4)     Showcase your product or services by being a vendor.  Limited space is available.\n\n5)     Sign up to be a volunteer.  \n\n\n\nPlease visit www.dianeshelpinghands.com for future updates. You may contact Crystal at (860) 209-5078 or dvghelpinghands@gmail.com for more information.
X-ALT-DESC;FMTTYPE=text/html:<div><span style="font-size:12pt">We are pleased to announce our 1</span><sup>st</sup><span style="font-size:12pt">&nbsp\;Annual Ovarian Cancer Walk Saturday\, September 24\, 2022\, at Dunkin Donuts Park in Hartford\, CT.&nbsp\; This event will raise awareness\, and provide support for Diane&rsquo\;s Helping Hands mission\, programs that benefit ovarian cancer patients and their families\, and a donation will be made to support the National Ovarian Cancer Coalition (NOCC).</span></div>\n\n<div><br />\n<span style="font-size:12pt">We cordially invite you to participate in DHH Ovarian Cancer Walk as we bring hope to individuals impacted by ovarian cancer\, honor those we lost\, and celebrate survivors in the Greater Hartford Area.&nbsp\; &nbsp\;There are several ways for you to do so.</span><span style="color:windowtext"><span style="font-size:12pt">1)&nbsp\;&nbsp\;&nbsp\;&nbsp\;&nbsp\;</span></span><span style="color:rgb(80\, 0\, 80)\; font-size:12pt">Walk as an individual or part of a team. While there is no entry fee\, we do encourage you to donate and invite others to support you in this endeavor.&nbsp\; To register as a walker\, or create a team for your organization visit our website&nbsp\;</span><a href="https://dianeshelpinghands.com/ovarian-cancer-walk" style="color: rgb(17\, 85\, 204)\;" target="_blank"><span style="font-size:12pt">Ovarian Cancer Walk (dianeshelpinghands.com)</span></a>\n\n<div><span style="font-size:12pt">2)&nbsp\;&nbsp\;&nbsp\;&nbsp\;&nbsp\;</span><span style="font-size:12pt">Become one of our sponsors. For more information\, please see the attached sponsorship letter.</span><br />\n<span style="font-size:12pt">3)&nbsp\;&nbsp\;&nbsp\;&nbsp\;&nbsp\;</span><span style="font-size:12pt">Make an in-kind donation for our walker bags.&nbsp\;</span><br />\n<span style="font-size:12pt">4)&nbsp\;&nbsp\;&nbsp\;&nbsp\;&nbsp\;</span><span style="font-size:12pt">Showcase your product or services by being a vendor.&nbsp\; Limited space is available.</span><br />\n<span style="font-size:12pt">5)&nbsp\;&nbsp\;&nbsp\;&nbsp\;&nbsp\;</span><span style="font-size:12pt">Sign up to be a volunteer.&nbsp\;&nbsp\;</span><br />\n<br />\n<span style="font-size:12pt">Please visit&nbsp\;<a href="http://www.dianeshelpinghands.com/" style="color:rgb(17\, 85\, 204)\;" target="_blank">www.dianeshelpinghands.com</a>&nbsp\;for future updates. You may contact Crystal at (860) 209-5078 or&nbsp\;<a href="mailto:dvghelpinghands@gmail.com" style="color:rgb(17\, 85\, 204)\;" target="_blank">dvghelpinghands@gmail.com</a>&nbsp\;for more information.</span></div>\n</div>\n
LOCATION:
UID:e.3150.9326
SEQUENCE:3
DTSTAMP:20260426T014422Z
URL:https://business.whchamber.com/events/details/diane-s-helping-hands-ovarian-cancer-awareness-walk-9326
END:VEVENT

END:VCALENDAR
