BEGIN:VCALENDAR
VERSION:2.0
PRODID:-//ChamberMaster//Event Calendar 2.0//EN
METHOD:PUBLISH
X-PUBLISHED-TTL:P3D
REFRESH-INTERVAL:P3D
CALSCALE:GREGORIAN
BEGIN:VEVENT
DTSTART:20240406T180000Z
DTEND:20240406T190000Z
X-MICROSOFT-CDO-ALLDAYEVENT:FALSE
SUMMARY:Diabetes 101 Seminar
DESCRIPTION:Attention All Simsbury\, CT Residents And Surrounding Towns\n\n \n\nJoin me\, Dave with "Diabetes Plus With Dave"\, for a comprehensive Diabetes 101 Seminar where you'll unlock the essentials of diabetes management. This engaging session covers understanding diabetes\, practical nutrition and exercise tips\, and personalized goal-setting strategies. Don't forget your pad and pen   it's time to empower yourself with knowledge for a healthier life!\n\n_____________________________________________\n\nWhen: Saturday\, April 6\, 2024\n\nTime: 2-3 pm\n\nWhere: The Gather On Hopmeadow\n\n961 Hopmeadow Street\, Simsbury\, CT\n\n  TICKETS WILL GO FAST  \n\nLIMITED SEATING! - 20 PEOPLE ONLY!\n\nYOU MUST PRE-REGISTER!\n\nREGISTRATION LINK - https://bit.ly/49M1o0k\n\nONLY $15 PER PERSON
X-ALT-DESC;FMTTYPE=text/html:<div>Attention All Simsbury\, CT Residents And Surrounding Towns<br />\n&nbsp\;</div>\n\n<div>Join me\, Dave with &quot\;Diabetes Plus With Dave&quot\;\, for a comprehensive Diabetes 101 Seminar where you&#39\;ll unlock the essentials of diabetes management. This engaging session covers understanding diabetes\, practical nutrition and exercise tips\, and personalized goal-setting strategies. Don&#39\;t forget your pad and pen &ndash\; it&#39\;s time to empower yourself with knowledge for a healthier life!<br />\n_____________________________________________<br />\nWhen: Saturday\, April 6\, 2024<br />\nTime: 2-3 pm<br />\nWhere: The Gather On Hopmeadow<br />\n961 Hopmeadow Street\, Simsbury\, CT</div>\n\n<div>&ndash\; TICKETS WILL GO FAST &ndash\;<br />\nLIMITED SEATING! - 20 PEOPLE ONLY!<br />\nYOU MUST PRE-REGISTER!<br />\nREGISTRATION LINK -&nbsp\;<a class="x1i10hfl xjbqb8w x1ejq31n xd10rxx x1sy0etr x17r0tee x972fbf xcfux6l x1qhh985 xm0m39n x9f619 x1ypdohk xt0psk2 xe8uvvx xdj266r x11i5rnm xat24cr x1mh8g0r xexx8yu x4uap5 x18d9i69 xkhd6sd x16tdsg8 x1hl2dhg xggy1nq x1a2a7pz xt0b8zv x1fey0fg" href="https://l.facebook.com/l.php?u=https%3A%2F%2Fbit.ly%2F49M1o0k%3Ffbclid%3DIwAR3DrTfO_dP_RorsI5KNTN9vk4_s4ctZ_2gpdFfdJFVbB629mzYpptzw1Eo&amp\;h=AT1LOlTohYbHwDdgOFzy0dguoWPXxswYS7cBALGIPrMdzerEzl-I8vLFhAip280mHUd0vU1AF0yvXEahffAujLAdnJzWAODCbDIg6NvPeRDUAiAZHbxXehmvc0YktigpqgWlWWFBs7Ynfdri3DKrab4&amp\;__tn__=q&amp\;c[0]=AT0I1Jpweq4pE93bReo3j6aBxeYr4W-5ZKAvZdKNAVfKzn7asf2r_biYeIrzyyGRA0iPVl2e4I3zyMD5DgkVm_6uspqK-t8P2SRButFhSGa5U3cqmBvBnZ17PQdx1jIK3JToBjA09pCcqrzRaJjVchfQvNqh" rel="nofollow noreferrer" style="color: var(--blue-link)\; cursor: pointer\; text-decoration: none\; outline: none\; list-style: none\; margin: 0px\; text-align: inherit\; border-style: none\; padding: 0px\; border-width: 0px\; box-sizing: border-box\; display: inline\; touch-action: manipulation\; font-family: inherit\;" tabindex="0" target="_blank">https://bit.ly/49M1o0k</a><br />\nONLY $15 PER PERSON</div>\n
LOCATION:The Gather On Hopmeadow 961 Hopmeadow Street Simsbury\, CT
UID:e.3150.12818
SEQUENCE:3
DTSTAMP:20260424T210020Z
URL:https://business.whchamber.com/events/details/diabetes-101-seminar-12818
END:VEVENT

END:VCALENDAR
