BEGIN:VCALENDAR
VERSION:2.0
PRODID:-//ChamberMaster//Event Calendar 2.0//EN
METHOD:PUBLISH
X-PUBLISHED-TTL:P3D
REFRESH-INTERVAL:P3D
CALSCALE:GREGORIAN
BEGIN:VEVENT
DTSTART:20241019T140000Z
DTEND:20241019T150000Z
X-MICROSOFT-CDO-ALLDAYEVENT:FALSE
SUMMARY:Diabetes 101 - An Interactive Seminar
DESCRIPTION:Diabetes 101 With David Oliver\n\nAn Interactive Seminar\n\nPresented By - Diabetes Plus with Dave\n\nDave Oliver - SPEAKER   EDUCATOR   COACH\n\nSEATING IS LIMITED - YOU MUST REGISTER TO SAVE YOUR SEAT\n\n\n\nJoin me for an exclusive speaking event focused on diabetes wellness. Don't miss this opportunity to get your questions answered and learn more about managing diabetes through education\, nutrition\, exercise\, and consistency.\n\n\n\nRESERVE YOUR SPOT
X-ALT-DESC;FMTTYPE=text/html:<h1><strong><span style="font-family:verdana"><u>Diabetes 101 With David Oliver</u></span></strong></h1>\n\n<h3><span style="font-size:26px"><em>An Interactive Seminar</em></span></h3>\n\n<hr />Presented By - Diabetes Plus with Dave<br />\nDave Oliver - <em>SPEAKER</em> &bull\; <em>EDUCATOR</em> &bull\; <em>COACH</em><br />\n<strong><span style="color:#FF0000">SEATING IS LIMITED - YOU MUST REGISTER TO SAVE YOUR SEAT</span></strong><br />\n<br />\n<span style="font-family:times new roman"><span style="font-size:14px"><span style="color:rgb(5\, 5\, 5)">Join me for an exclusive speaking event focused on diabetes wellness. Don&rsquo\;t miss this opportunity to get your questions answered and learn more about managing diabetes through education\, nutrition\, exercise\, and consistency.</span></span></span><br />\n<br />\n<a href="https://app.acuityscheduling.com/schedule.php?owner=13137307&amp\;appointmentType=67322321">RESERVE YOUR SPOT</a>
LOCATION:Balance Massage & Wellness Center 135 Day Street Newington\, CT
UID:e.3150.15265
SEQUENCE:3
DTSTAMP:20260424T134612Z
URL:https://business.whchamber.com/events/details/diabetes-101-an-interactive-seminar-15265
END:VEVENT

END:VCALENDAR
