BEGIN:VCALENDAR
VERSION:2.0
PRODID:-//ChamberMaster//Event Calendar 2.0//EN
METHOD:PUBLISH
X-PUBLISHED-TTL:P3D
REFRESH-INTERVAL:P3D
CALSCALE:GREGORIAN
BEGIN:VEVENT
DTSTART:20220609T210000Z
DTEND:20220610T003000Z
X-MICROSOFT-CDO-ALLDAYEVENT:FALSE
SUMMARY:Develomark After Dark - Networking
DESCRIPTION:Join the Develomark team and a room full of other local professionals for a FREE night of food\, drinks\, networking and NEON. Come have a great night\, ask our digital marketing experts anything\, receive a free website audit\, and more. Everyone who joins us will be entered to win a MacBook Air\, Apple AirPods\, and Amazon gift card just for attending. Must be present to win! Our event is taking place on Thursday\, June 9\, at 5:00 PM. ATTENDANCE IS LIMITED\, PLEASE RSVP HERE: https://www.develomark.com/event
X-ALT-DESC;FMTTYPE=text/html:<span style="color:rgb(0\, 0\, 0)\; font-family:helvetica\; font-size:12px">Join the Develomark team and a room full of other local professionals for a FREE night of food\, drinks\, networking and NEON. Come have a great night\, ask our digital marketing experts anything\, receive a free website audit\, and more. Everyone who joins us will be entered to win a MacBook Air\, Apple AirPods\, and Amazon gift card just for attending. Must be present to win! Our event is taking place on Thursday\, June 9\, at 5:00 PM. ATTENDANCE IS LIMITED\, PLEASE RSVP HERE: </span><a href="https://www.develomark.com/event" style="font-family: Helvetica\; font-size: 12px\; text-size-adjust: auto\;">https://www.develomark.com/event</a>
LOCATION:WE'VE HEARD OUR OFFICE IS A HIDDEN GEM... so here's some detailed directions! Develomark is located at 409 Canal Street\, Plantsville\, CT. Please park either in the lot adjacent to the building or directly across the street. Follow the brick path that runs along the far side of the building next to the walking path. Follow the signs to enter the third door on the left for Develomark/The Network.
UID:e.3150.9470
SEQUENCE:3
DTSTAMP:20260426T023125Z
URL:https://business.whchamber.com/events/details/develomark-after-dark-networking-9470
END:VEVENT

END:VCALENDAR
