BEGIN:VCALENDAR
VERSION:2.0
PRODID:-//ChamberMaster//Event Calendar 2.0//EN
METHOD:PUBLISH
X-PUBLISHED-TTL:P3D
REFRESH-INTERVAL:P3D
CALSCALE:GREGORIAN
BEGIN:VEVENT
DTSTART:20241012T173000Z
DTEND:20241012T193000Z
X-MICROSOFT-CDO-ALLDAYEVENT:FALSE
SUMMARY:Decorative Textiles | Life on the Webster Farm: Work Days
DESCRIPTION:Visit the Noah Webster House & West Hartford Historical Society on Saturday\, October 12 from 1:30pm - 3:30pm to enjoy live demonstrations from our experienced team of museum educators. Each demonstration will focus on a unique aspect of early American work and play.\n\nMost of the making of textiles was done out of necessity to clothing and household goods. However\, decorative needlework\, knitting\, crocheting\, and weaving was an early American art form. Come see examples of textiles from our museum collection and try your having at making your own creation!\n\nThis program is included in museum admission. Enjoy FREE general admission for children under 12 for this event!\n\nFor more information\, please email events@noahwebsterhouse.org or visit www.noahwebsterhouse.org/work-days.\n\nThank you to our 2023-2024 Sponsor\, the Rotary Club of West Hartford!
X-ALT-DESC;FMTTYPE=text/html:<p><span style="background-color:transparent\; color:rgb(68\, 68\, 68)\; font-family:arial\,sans-serif\; font-size:12pt">Visit the Noah Webster House &amp\; West Hartford Historical Society on Saturday\, October 12 from 1:30pm - 3:30pm to enjoy live demonstrations from our experienced team of museum educators. Each demonstration will focus on a unique aspect of early American work and play.</span></p>\n\n<p><span style="color:rgb(68\, 68\, 68)\; font-family:arial\,sans-serif\; font-size:12pt">Most of the making of textiles was done out of necessity to clothing and household goods. However\, decorative needlework\, knitting\, crocheting\, and weaving was an early American art form. Come see examples of textiles from our museum collection and try your having at making your own creation!</span></p>\n\n<p><span style="background-color:transparent\; color:rgb(68\, 68\, 68)\; font-family:arial\,sans-serif\; font-size:12pt">This program is included in museum admission. Enjoy </span><strong>FREE</strong><span style="background-color:transparent\; color:rgb(68\, 68\, 68)\; font-family:arial\,sans-serif\; font-size:12pt"> general admission for children under 12 for this event!</span></p>\n\n<p><span style="background-color:transparent\; color:rgb(68\, 68\, 68)\; font-family:arial\,sans-serif\; font-size:12pt">For more information\, please email events@noahwebsterhouse.org or visit</span><a href="https://noahwebsterhouse.org/work-days/" style="text-decoration-line: none\;"><span style="background-color:transparent\; color:rgb(68\, 68\, 68)\; font-family:arial\,sans-serif\; font-size:12pt"> </span><span style="background-color:transparent\; color:rgb(17\, 85\, 204)\; font-family:arial\,sans-serif\; font-size:12pt">www.noahwebsterhouse.org/work-days</span></a><span style="background-color:transparent\; color:rgb(68\, 68\, 68)\; font-family:arial\,sans-serif\; font-size:12pt">.</span></p>\n\n<p><span style="background-color:transparent\; color:rgb(68\, 68\, 68)\; font-family:arial\,sans-serif\; font-size:12pt">Thank you to our 2023-2024 Sponsor\, the Rotary Club of West Hartford!</span></p>\n\n<div>&nbsp\;</div>\n
LOCATION:Noah Webster House & West Hartford Historical Society 227 South Main Street\, West Hartford\, CT\, 06107
UID:e.3150.15713
SEQUENCE:3
DTSTAMP:20260424T134551Z
URL:https://business.whchamber.com/events/details/decorative-textiles-life-on-the-webster-farm-work-days-15713
END:VEVENT

END:VCALENDAR
