BEGIN:VCALENDAR
VERSION:2.0
PRODID:-//ChamberMaster//Event Calendar 2.0//EN
METHOD:PUBLISH
X-PUBLISHED-TTL:P3D
REFRESH-INTERVAL:P3D
CALSCALE:GREGORIAN
BEGIN:VEVENT
DTSTART:20230429T160000Z
DTEND:20230429T170000Z
X-MICROSOFT-CDO-ALLDAYEVENT:FALSE
SUMMARY:DANDELION DAY!
DESCRIPTION:DANDELION DAY at Playhouse on Park! Saturday\, April 29th Join us as we celebrate the Opening of the World Premiere of the children's musical Dandelion. Purchase tickets for either performance then come early and join in on the fun! Activities begin 1 hour prior to showtime. We will have: Face Painting Popcorn Snacks Giveaways! "Make a Wish" station Fun crafting activities Post Show Meet & Greet with the cast! Tickets/More Information: 860-523-5900 x 10 www.PlayhouseOnPark.org Dandelion Day Special - April 29th ONLY - Buy One\, Get One Ticket FREE! Use the following code:DANDEPARTY PTA Students! Wear your PTA shirt and receive a coupon for a free ice cream from A.C. Petersens!
X-ALT-DESC;FMTTYPE=text/html:DANDELION DAY at Playhouse on Park! Saturday\, April 29th Join us as we celebrate the Opening of the World Premiere of the children&rsquo\;s musical Dandelion. Purchase tickets for either performance then come early and join in on the fun! Activities begin 1 hour prior to showtime. We will have: Face Painting Popcorn Snacks Giveaways! &quot\;Make a Wish&rdquo\; station Fun crafting activities Post Show Meet &amp\; Greet with the cast! Tickets/More Information: 860-523-5900 x 10 www.PlayhouseOnPark.org Dandelion Day Special - April 29th ONLY - Buy One\, Get One Ticket FREE! Use the following code:DANDEPARTY PTA Students! Wear your PTA shirt and receive a coupon for a free ice cream from A.C. Petersens!
LOCATION:Playhouse on Park 244 Park Road
UID:e.3150.12550
SEQUENCE:3
DTSTAMP:20260425T153838Z
URL:https://business.whchamber.com/events/details/dandelion-day-12550
END:VEVENT

END:VCALENDAR
