BEGIN:VCALENDAR
VERSION:2.0
PRODID:-//ChamberMaster//Event Calendar 2.0//EN
METHOD:PUBLISH
X-PUBLISHED-TTL:P3D
REFRESH-INTERVAL:P3D
CALSCALE:GREGORIAN
BEGIN:VEVENT
DTSTART:20230215T170000Z
DTEND:20230215T180000Z
X-MICROSOFT-CDO-ALLDAYEVENT:FALSE
SUMMARY:Cyber Security Webinar w/ FBI Special Agent - Hosted by Janney Montgomery Scott
DESCRIPTION:ARE YOU PROTECTED FROM\n\nIDENTITY THEFT & CYBERCRIME?\n\nJoin us for an exclusive virtual seminar\n\nDon't wait until it's too late ensure your identity and computer are protected. Join our cybersecurity webinar\, "Simple Safeguards: How to Stay Safe from Identity Theft and Cybercrime\," featuring Jeff Lanza\, retired FBI Special Agent\, to get the rundown on simple safeguards to protect yourself from cybercrime
X-ALT-DESC;FMTTYPE=text/html:ARE YOU PROTECTED FROM<br />\nIDENTITY THEFT &amp\; CYBERCRIME?<br />\nJoin us for an exclusive virtual seminar<br />\n<span style="color:#2E2F2F"><span style="font-family:segoe ui light\,sans-serif"><span style="font-size:12.5pt">Don&rsquo\;t wait until it&rsquo\;s too late&mdash\;ensure your identity and computer are protected. Join our cybersecurity webinar\, &ldquo\;Simple Safeguards: How to Stay Safe from Identity Theft and Cybercrime\,&rdquo\; featuring </span></span></span><span style="color:#266796"><span style="font-family:segoe ui black\,sans-serif"><span style="font-size:12.5pt">Jeff Lanza\, retired FBI Special Agent</span></span></span><span style="color:#2E2F2F"><span style="font-family:segoe ui light\,sans-serif"><span style="font-size:12.5pt">\, to get the rundown on simple safeguards to protect yourself from cybercrime</span></span></span>
LOCATION:Webex Events (classic) REGISTER HERE
UID:e.3150.12497
SEQUENCE:3
DTSTAMP:20260425T193142Z
URL:https://business.whchamber.com/events/details/cyber-security-webinar-w-fbi-special-agent-hosted-by-janney-montgomery-scott-12497
END:VEVENT

END:VCALENDAR
