BEGIN:VCALENDAR
VERSION:2.0
PRODID:-//ChamberMaster//Event Calendar 2.0//EN
METHOD:PUBLISH
X-PUBLISHED-TTL:P3D
REFRESH-INTERVAL:P3D
CALSCALE:GREGORIAN
BEGIN:VEVENT
DTSTART:20230305T180000Z
DTEND:20230305T210000Z
X-MICROSOFT-CDO-ALLDAYEVENT:FALSE
SUMMARY:CT Spelling Bee
DESCRIPTION:The Noah Webster House & West Hartford Historical Society is proud to sponsor The Connecticut Spelling Bee along with host University of Saint Joseph. Join us at the University of Saint Joseph's Bruyette Athenaeum's Hoffman Auditorium on March 5\, 2023 at 1:00pm\, to see the final Connecticut spelling competition before the Scripps National Spelling Bee. Please contact Alex Gerrish at gerrisha@noahwebsterhouse.org or 860.521.5362 x12 for more information
X-ALT-DESC;FMTTYPE=text/html:The Noah Webster House &amp\; West Hartford Historical Society is proud to sponsor The Connecticut Spelling Bee along with host University of Saint Joseph. Join us at the University of Saint Joseph&rsquo\;s Bruyette Athenaeum&rsquo\;s Hoffman Auditorium on March 5\, 2023 at 1:00pm\, to see the final Connecticut spelling competition before the Scripps National Spelling Bee. Please contact Alex Gerrish at gerrisha@noahwebsterhouse.org or 860.521.5362 x12 for more information
LOCATION:University of Saint Joseph's Bruyette Athenaeum's Hoffman Auditorium
UID:e.3150.12483
SEQUENCE:3
DTSTAMP:20260425T164458Z
URL:https://business.whchamber.com/events/details/ct-spelling-bee-12483
END:VEVENT

END:VCALENDAR
