BEGIN:VCALENDAR
VERSION:2.0
PRODID:-//ChamberMaster//Event Calendar 2.0//EN
METHOD:PUBLISH
X-PUBLISHED-TTL:P3D
REFRESH-INTERVAL:P3D
CALSCALE:GREGORIAN
BEGIN:VEVENT
DTSTART;VALUE=DATE:20240624
DTEND;VALUE=DATE:20240625
TRANSP:TRANSPARENT
X-MICROSOFT-CDO-ALLDAYEVENT:TRUE
SUMMARY:American Cancer Society CT Golf Classic
DESCRIPTION:The American Cancer Society's Connecticut Golf Classic is a first-class tournament that raises funds for the American Cancer Society's lifesaving mission to improve the lives of people with cancer\, to ensure that everyone has an opportunity to prevent\, detect\, treat\, and survive cancer. While much progress has been made in cancer research\, there is still a lot of work to do and support from community partners helps us make tremendous strides.
X-ALT-DESC;FMTTYPE=text/html:The American Cancer Society&rsquo\;s Connecticut Golf Classic is a first-class tournament that raises funds for the American Cancer Society&#39\;s lifesaving mission to improve the lives of people with cancer\, to ensure that everyone has an opportunity to prevent\, detect\, treat\, and survive cancer. While much progress has been made in cancer research\, there is still a lot of work to do and support from community partners helps us make tremendous strides.
LOCATION:Tunxis Country Club 87 Town Farm Rd. Farmington\, CT 06032
UID:e.3150.12958
SEQUENCE:3
DTSTAMP:20260424T181122Z
URL:https://business.whchamber.com/events/details/ct-golf-classic-12958
END:VEVENT

END:VCALENDAR
