BEGIN:VCALENDAR
VERSION:2.0
PRODID:-//ChamberMaster//Event Calendar 2.0//EN
METHOD:PUBLISH
X-PUBLISHED-TTL:P3D
REFRESH-INTERVAL:P3D
CALSCALE:GREGORIAN
BEGIN:VEVENT
DTSTART:20230210T140000Z
DTEND:20230210T153000Z
X-MICROSOFT-CDO-ALLDAYEVENT:FALSE
SUMMARY:CT Chapter of the Alzheimer's Assocaiton's Breakfast of Champions
DESCRIPTION:Join us next month as we celebrate our dedicated Walk supporters and volunteers!\n\nRecharge your batteries for 2023 as we listen to dynamic motivator Oneika Mays discuss how to be mindful as we create community connections and influence others to join in our passion to end Alzheimer's.\n\n \n\nRSVP today: bit.ly/walk-breakfast-of-champs\n\n\n\nYou won't want to miss this opportunity to network with fellow champions in the fight and inspire possibilities in the new year.\n\nHosted by Lorin Richardson of WFSB
X-ALT-DESC;FMTTYPE=text/html:<div><strong>Join us next month as we celebrate our dedicated Walk supporters and volunteers!</strong></div>\n\n<div><strong>Recharge your batteries for 2023 as we listen to dynamic motivator Oneika Mays discuss how&nbsp\;to be mindful as we create community connections and influence others to join in our passion to end Alzheimer&rsquo\;s.</strong></div>\n\n<div>&nbsp\;</div>\n\n<div><strong>RSVP today:&nbsp\;<a href="http://bit.ly/walk-breakfast-of-champs" style="color: rgb(17\, 85\, 204)\;" target="_blank">bit.ly/walk-breakfast-of-champs</a><br />\n<br />\nYou won&rsquo\;t want to miss this opportunity to network with fellow champions in the fight and inspire possibilities in the new year.</strong>\n\n<div><strong>Hosted by Lorin Richardson of WFSB</strong></div>\n</div>\n
LOCATION:Alzheimer's Association Connecticut Chapter 200 Executive Blvd S #4b Southington\, CT 06489 First Floor Cafe
UID:e.3150.12464
SEQUENCE:3
DTSTAMP:20260425T181606Z
URL:https://business.whchamber.com/events/details/ct-chapter-of-the-alzheimer-s-assocaiton-s-breakfast-of-champions-12464
END:VEVENT

END:VCALENDAR
