BEGIN:VCALENDAR
VERSION:2.0
PRODID:-//ChamberMaster//Event Calendar 2.0//EN
METHOD:PUBLISH
X-PUBLISHED-TTL:P3D
REFRESH-INTERVAL:P3D
CALSCALE:GREGORIAN
BEGIN:VEVENT
DTSTART:20241010T223000Z
DTEND:20241010T233000Z
X-MICROSOFT-CDO-ALLDAYEVENT:FALSE
SUMMARY:Constructing Connecticut: Cultural Transmission & Timber Framing 1680-1730 | A “Masters” Lecture
DESCRIPTION:Constructing Connecticut: Cultural Transmission & Timber Framing 1680-1730 | A "Masters" Lecture\n\nPresented By Nevan Carling\n\nOctober 10\, 2024\n\n6:30pm-7:30pm\n\nhttps://noahwebster.yapsody.com/event/index/815633/constructing-ct-cultural-transmission-timber-framing\n\n \n\nThis talk will consider the distinctive timber frame style developed in the Greater Hartford Area in the late 17th and early 18th centuries. Connecticut's architectural and building traditions of this period have long been overlooked and primarily compared to those found in the Boston Bay. This talk seeks to elucidate a building tradition developed in Connecticut\, and consider our buildings as culturally distinct among those found in the rest of New England. These case studies will include the John Goodwin House c. 1698\, the Riley/Adams House c. 1722\, the Noah Webster House c. 1700-25\, the Buttolph-Williams House ~1711\, the Jonathan Demming House c. 1665\, and many others. While many of these houses are still with us\, many more have been demolished in only the last 100 years. Creating awareness of our unique and fascinating history is the first step in preserving this treasure for future generations.\n\nAbout the Presenter: Nevan Carling is a conservation timber framer based in Connecticut. He is a graduate of the University of York\, England\, where he earned a First Class undergraduate degree in Archaeology and Heritage Management. He is currently pursuing an MSc in Timber Building Conservation at the Weald and Downland Living Museum in Chichester\, England. Nevan works as a conservation timber framer and teaches/demonstrates hewing at the Eric Sloane Museum in Kent\, CT.
X-ALT-DESC;FMTTYPE=text/html:<p style="margin-left:38pt"><strong>Constructing Connecticut: Cultural Transmission &amp\; Timber Framing 1680-1730 | A &ldquo\;Masters&rdquo\; Lecture</strong></p>\n\n<p style="margin-left:38pt"><span style="color:rgb(68\, 68\, 68)\; font-family:arial\,sans-serif\; font-size:12pt">Presented By Nevan Carling</span></p>\n\n<p style="margin-left:38pt"><strong>October 10\, 2024</strong></p>\n\n<p style="margin-left:38pt"><span style="color:rgb(68\, 68\, 68)\; font-family:arial\,sans-serif\; font-size:12pt">6:30pm-7:30pm</span></p>\n\n<p style="margin-left:38pt"><a href="https://noahwebster.yapsody.com/event/index/815633/constructing-ct-cultural-transmission-timber-framing" style="text-decoration-line: none\;"><span style="color:rgb(17\, 85\, 204)\; font-family:arial\,sans-serif\; font-size:12pt">https://noahwebster.yapsody.com/event/index/815633/constructing-ct-cultural-transmission-timber-framing</span></a></p>\n\n<p style="margin-left:38pt">&nbsp\;</p>\n\n<p style="margin-left:38pt"><span style="color:rgb(68\, 68\, 68)\; font-family:arial\,sans-serif\; font-size:12pt">This talk will consider the distinctive timber frame style developed in the Greater Hartford Area in the late 17th and early 18th centuries. Connecticut&rsquo\;s architectural and building traditions of this period have long been overlooked and primarily compared to those found in the Boston Bay. This talk seeks to elucidate a building tradition developed in Connecticut\, and consider our buildings as culturally distinct among those found in the rest of New England. These case studies will include the John Goodwin House c. 1698\, the Riley/Adams House c. 1722\, the Noah Webster House c. 1700-25\, the Buttolph-Williams House ~1711\, the Jonathan Demming House c. 1665\, and many others. While many of these houses are still with us\, many more have been demolished in only the last 100 years. Creating awareness of our unique and fascinating history is the first step in preserving this treasure for future generations.</span></p>\n\n<p style="margin-left:38pt"><span style="color:rgb(68\, 68\, 68)\; font-family:arial\,sans-serif\; font-size:12pt">About the Presenter: Nevan Carling is a conservation timber framer based in Connecticut. He is a graduate of the University of York\, England\, where he earned a First Class undergraduate degree in Archaeology and Heritage Management. He is currently pursuing an MSc in Timber Building Conservation at the Weald and Downland Living Museum in Chichester\, England. Nevan works as a conservation timber framer and teaches/demonstrates hewing at the Eric Sloane Museum in Kent\, CT.</span></p>\n\n<p style="margin-left:38pt">&nbsp\;</p>\n\n<div>&nbsp\;</div>\n
LOCATION:Noah Webster House & West Hartford Historical Society 227 South Main Street\, West Hartford\, CT\, 06107
UID:e.3150.15274
SEQUENCE:3
DTSTAMP:20260424T134647Z
URL:https://business.whchamber.com/events/details/constructing-connecticut-cultural-transmission-timber-framing-1680-1730-a-masters-lecture-15274
END:VEVENT

END:VCALENDAR
