BEGIN:VCALENDAR
VERSION:2.0
PRODID:-//ChamberMaster//Event Calendar 2.0//EN
METHOD:PUBLISH
X-PUBLISHED-TTL:P3D
REFRESH-INTERVAL:P3D
CALSCALE:GREGORIAN
BEGIN:VEVENT
DTSTART:20220521T120000Z
DTEND:20220521T160000Z
X-MICROSOFT-CDO-ALLDAYEVENT:FALSE
SUMMARY:Connecticut Foodshare Walk Against Hunger on May 21st at Dunkin Donuts Park in Hartford
DESCRIPTION:Registration is now open for the Connecticut Foodshare Walk Against Hunger on Saturday\, May 21st at Dunkin' Donuts Park   home of the Hartford Yard Goats! www.ctfoodsharewalk.org  \n\n\n\nHosted by local media personalities Renee DiNino and Scot Haney\, this fun-filled event raises awareness about food insecurity in Connecticut\, and includes lots of activities and an easy 1.5 mile community walk. Check in begins at 8am and the walk kicks off at 10am. \n\n\n\nThe Walk not only benefits the work of Connecticut Foodshare\, it also supports the amazing hunger relief programs we partner with throughout the state - and most importantly the 428\,000 people who are trying to achieve food security with YOUR help. \n\n\n\nSign up now: www.ctfoodsharewalk.org  \n\n\n\nQuestions? Email  walk@ctfoodshare.org
X-ALT-DESC;FMTTYPE=text/html:<div>\n<p><span style="font-family:arial\,arial_embeddedfont\,arial_msfontservice\,sans-serif\; font-size:10.5pt">Registration is now open for the Connecticut Foodshare Walk Against Hunger on Saturday\, May 21st at Dunkin&#39\; Donuts Park &mdash\; home of the Hartford Yard Goats! </span><a class="Hyperlink SCXW81226506 BCX9" href="https://l.facebook.com/l.php?u=http%3A%2F%2Fwww.ctfoodsharewalk.org%2F%3Ffbclid%3DIwAR3eH-3eVAfREfASSHX76SakQl4uJ9Igx4_zt1aFqWbtr5DmORPwKXPNQgQ&amp\;h=AT0AnAaatP2R9o1Gz7VxqASWV_CN2mumqKVfp0SfHbfMvyxc2xg5PNA9ZOdg7MjMLUgpafCoGtcVs85ytVgtN-0X0pnNuF8BytSuYzrxc044U0KiM8goIiZzLd0C9XkQ_A&amp\;__tn__=-UK-R&amp\;c[0]=AT0fBNXzXCPgMXPPZYesVskt9cKPGKDhYO-BdX0ngkX_xx6lLaWQzERIe14P685sHtEL4GgvtSP_f0_hlL3o-ZoJccynGpT4uLpz6kkjJcQByoxXL3uNSK3j5nKKgdpTfu_k1xieDr5hyuJiHCjmUDOU_44iTmWYTW5SGgzlNs7jcA" rel="noreferrer noopener" style="margin: 0px\; padding: 0px\; user-select: text\; -webkit-user-drag: none\; -webkit-tap-highlight-color: transparent\; text-decoration-line: none\;" target="_blank"><span style="color:rgb(5\, 99\, 193)\; font-family:arial\,arial_embeddedfont\,arial_msfontservice\,sans-serif\; font-size:10.5pt">www.ctfoodsharewalk.org</span></a><span style="font-family:arial\,arial_embeddedfont\,arial_msfontservice\,sans-serif\; font-size:10.5pt">&nbsp\;</span><span style="font-family:arial\,arial_embeddedfont\,arial_msfontservice\,sans-serif\; font-size:10.5pt">&nbsp\;</span></p>\n</div>\n\n<div>\n<p><span style="font-family:arial\,arial_embeddedfont\,arial_msfontservice\,sans-serif\; font-size:10.5pt">Hosted by local media personalities Renee DiNino and Scot Haney\, this fun-filled event raises awareness about food insecurity in Connecticut\, and includes lots of activities and an easy 1.5 mile community walk. Check in begins at 8am and the walk kicks off at 10am.</span><span style="font-family:arial\,arial_embeddedfont\,arial_msfontservice\,sans-serif\; font-size:10.5pt">&nbsp\;</span></p>\n</div>\n\n<div>\n<p><span style="font-family:arial\,arial_embeddedfont\,arial_msfontservice\,sans-serif\; font-size:10.5pt">The Walk not only benefits the work of Connecticut Foodshare\, it also supports the amazing hunger relief programs we partner with throughout the state - and most importantly the 428\,000 people who are trying to achieve food security with YOUR help.</span><span style="font-family:arial\,arial_embeddedfont\,arial_msfontservice\,sans-serif\; font-size:10.5pt">&nbsp\;</span></p>\n</div>\n\n<div>\n<p><span style="font-family:arial\,arial_embeddedfont\,arial_msfontservice\,sans-serif\; font-size:10.5pt">Sign up now: </span><a class="Hyperlink SCXW81226506 BCX9" href="https://l.facebook.com/l.php?u=http%3A%2F%2Fwww.ctfoodsharewalk.org%2F%3Ffbclid%3DIwAR3UF8A0fpDCuq7rVGSOov_TMrpmLKqQ9tSf7RWmInDjlB3N9y-_9LJ7Hl4&amp\;h=AT0AnAaatP2R9o1Gz7VxqASWV_CN2mumqKVfp0SfHbfMvyxc2xg5PNA9ZOdg7MjMLUgpafCoGtcVs85ytVgtN-0X0pnNuF8BytSuYzrxc044U0KiM8goIiZzLd0C9XkQ_A&amp\;__tn__=-UK-R&amp\;c[0]=AT0fBNXzXCPgMXPPZYesVskt9cKPGKDhYO-BdX0ngkX_xx6lLaWQzERIe14P685sHtEL4GgvtSP_f0_hlL3o-ZoJccynGpT4uLpz6kkjJcQByoxXL3uNSK3j5nKKgdpTfu_k1xieDr5hyuJiHCjmUDOU_44iTmWYTW5SGgzlNs7jcA" rel="noreferrer noopener" style="margin: 0px\; padding: 0px\; user-select: text\; -webkit-user-drag: none\; -webkit-tap-highlight-color: transparent\; text-decoration-line: none\;" target="_blank"><span style="color:rgb(5\, 99\, 193)\; font-family:arial\,arial_embeddedfont\,arial_msfontservice\,sans-serif\; font-size:10.5pt">www.ctfoodsharewalk.org</span></a><span style="font-family:arial\,arial_embeddedfont\,arial_msfontservice\,sans-serif\; font-size:10.5pt">&nbsp\;</span><span style="font-family:arial\,arial_embeddedfont\,arial_msfontservice\,sans-serif\; font-size:10.5pt">&nbsp\;</span></p>\n</div>\n\n<div>\n<p><span style="font-family:arial\,arial_embeddedfont\,arial_msfontservice\,sans-serif\; font-size:10.5pt">Questions? Email&nbsp\; </span><a class="Hyperlink SCXW81226506 BCX9" href="mailto:walk@ctfoodshare.org" rel="noreferrer noopener" style="margin: 0px\; padding: 0px\; user-select: text\; -webkit-user-drag: none\; -webkit-tap-highlight-color: transparent\; text-decoration-line: none\;" target="_blank"><span style="color:rgb(5\, 99\, 193)\; font-family:arial\,arial_embeddedfont\,arial_msfontservice\,sans-serif\; font-size:10.5pt">walk@ctfoodshare.org</span></a><span style="font-family:arial\,arial_embeddedfont\,arial_msfontservice\,sans-serif\; font-size:10.5pt">&nbsp\;</span></p>\n</div>\n
LOCATION:Dunkin Donuts Park Home of the Hartford Yard Goats! 1214 Main Street Hartford\, CT 06103
UID:e.3150.9390
SEQUENCE:3
DTSTAMP:20260426T010708Z
URL:https://business.whchamber.com/events/details/connecticut-foodshare-walk-against-hunger-on-may-21st-at-dunkin-donuts-park-in-hartford-9390
END:VEVENT

END:VCALENDAR
