BEGIN:VCALENDAR
VERSION:2.0
PRODID:-//ChamberMaster//Event Calendar 2.0//EN
METHOD:PUBLISH
X-PUBLISHED-TTL:P3D
REFRESH-INTERVAL:P3D
CALSCALE:GREGORIAN
BEGIN:VEVENT
DTSTART:20241015T160000Z
DTEND:20241015T170000Z
X-MICROSOFT-CDO-ALLDAYEVENT:FALSE
SUMMARY:Complementary Lunch and Learn: 15 Invaluable Laws of Growth
DESCRIPTION:Join Kristin Jaeck of ReWorking Strategies\, LLC for this complementary Lunch and Learn on October 15th from 12:00-1:00 PM EST. Personal growth and leadership development go hand in hand. How far you go is truly up to you because it's your growth that determines your success! Whether you're interested in personal or professional growth\, learning the 15 Invaluable Laws of Growth will rapidly accelerate growth in all aspects of your life. Reaching your potential is a constant journey of discovery\, growth\, and insight which requires curiosity\, consistency\, and willingness to change. Once you jump on the growth bandwagon\, success will be undeniable.
X-ALT-DESC;FMTTYPE=text/html:<p><strong>Join Kristin Jaeck of ReWorking Strategies\, LLC for this complementary Lunch and Learn on October 15th from 12:00-1:00 PM EST.</strong> Personal growth and leadership development go hand in hand. How far you go is truly up to you because it&#39\;s your growth that determines your success!&nbsp\;Whether you&#39\;re interested in personal or professional growth\, learning the 15 Invaluable Laws of Growth will rapidly accelerate growth in all aspects of your life. Reaching your potential is a constant journey of discovery\, growth\, and insight which requires curiosity\, consistency\, and willingness to change. Once you jump on the growth bandwagon\, success will be undeniable.<br />\n<br />\n&nbsp\;</p>\n\n<div>\n<div style="margin-left:0px\; margin-right:0px">\n<div>&nbsp\;</div>\n</div>\n</div>\n\n<div>\n<div>\n<div style="margin-left:0px\; margin-right:0px">\n<div>&nbsp\;</div>\n</div>\n</div>\n</div>\n
LOCATION:This session will be held virtually via Zoom. Register here: https://zoom.us/meeting/register/tJUocemoqzgrE9YvYBwG46x1hq017GC7duq2
UID:e.3150.15708
SEQUENCE:3
DTSTAMP:20260424T141118Z
URL:https://business.whchamber.com/events/details/complementary-lunch-and-learn-15-invaluable-laws-of-growth-15708
END:VEVENT

END:VCALENDAR
