BEGIN:VCALENDAR
VERSION:2.0
PRODID:-//ChamberMaster//Event Calendar 2.0//EN
METHOD:PUBLISH
X-PUBLISHED-TTL:P3D
REFRESH-INTERVAL:P3D
CALSCALE:GREGORIAN
BEGIN:VEVENT
DTSTART:20220818T210000Z
DTEND:20220819T000000Z
X-MICROSOFT-CDO-ALLDAYEVENT:FALSE
SUMMARY:Community Night at Noah Webster House
DESCRIPTION:The Noah Webster House & West Hartford Historical Society is hosting a family friendly Community Night 5-8 p.m. on August 18. Discover history and play games while you eat or sip from participating food and beverage trucks and shop from local vendors including Hot Taco Street Kitchen\; Mama Nena Food Truck\, Nothing Bundt Cakes\; and Whimsically Tipsy.
X-ALT-DESC;FMTTYPE=text/html:The Noah Webster House &amp\; West Hartford Historical Society is hosting a family friendly Community Night 5-8 p.m. on August 18. Discover history and play games while you eat or sip from participating food and beverage trucks and shop from local vendors including Hot Taco Street Kitchen\; Mama Nena Food Truck\, Nothing Bundt Cakes\; and Whimsically Tipsy.
LOCATION:Noah Webster House 227 S. Main St. West Hartford\, CT 06107
UID:e.3150.10964
SEQUENCE:3
DTSTAMP:20260426T030457Z
URL:https://business.whchamber.com/events/details/community-night-at-noah-webster-house-10964
END:VEVENT

END:VCALENDAR
