BEGIN:VCALENDAR
VERSION:2.0
PRODID:-//ChamberMaster//Event Calendar 2.0//EN
METHOD:PUBLISH
X-PUBLISHED-TTL:P3D
REFRESH-INTERVAL:P3D
CALSCALE:GREGORIAN
BEGIN:VEVENT
DTSTART;VALUE=DATE:20221107
DTEND;VALUE=DATE:20221112
TRANSP:TRANSPARENT
X-MICROSOFT-CDO-ALLDAYEVENT:TRUE
SUMMARY:Community Appreciation Days
DESCRIPTION:Let us help you engage\, nurture and support your staff. Retreat to our Mandell JCC for an enjoyable group experience and connect with your team. Select a 3-hour timespan and design your unique getaway. Choose a morning with coffee and bagels or an afternoon complete with cocktails and snacks. Let us show you our appreciation for being our community partner! Contact us to plan your getaway.
X-ALT-DESC;FMTTYPE=text/html:Let us help you engage\, nurture and support your staff. Retreat to our Mandell JCC for an enjoyable group experience and connect with your team. Select a 3-hour timespan and design your unique getaway. Choose a morning with coffee and bagels or an afternoon complete with cocktails and snacks. Let us show you our appreciation for being our community partner! Contact us to plan your getaway.
LOCATION:Mandell JCC
UID:e.3150.12391
SEQUENCE:3
DTSTAMP:20260425T224133Z
URL:https://business.whchamber.com/events/details/community-appreciation-days-12391
END:VEVENT

END:VCALENDAR
